BEGIN:VCALENDAR
VERSION:2.0
PRODID:-//In Gruna leben e.V. - ECPv6.8.3//NONSGML v1.0//EN
CALSCALE:GREGORIAN
METHOD:PUBLISH
X-ORIGINAL-URL:https://dresden-gruna.de
X-WR-CALDESC:Veranstaltungen für In Gruna leben e.V.
REFRESH-INTERVAL;VALUE=DURATION:PT1H
X-Robots-Tag:noindex
X-PUBLISHED-TTL:PT1H
BEGIN:VTIMEZONE
TZID:Europe/Berlin
BEGIN:DAYLIGHT
TZOFFSETFROM:+0100
TZOFFSETTO:+0200
TZNAME:CEST
DTSTART:20240331T010000
END:DAYLIGHT
BEGIN:STANDARD
TZOFFSETFROM:+0200
TZOFFSETTO:+0100
TZNAME:CET
DTSTART:20241027T010000
END:STANDARD
END:VTIMEZONE
BEGIN:VEVENT
DTSTART;TZID=Europe/Berlin:20240531T150000
DTEND;TZID=Europe/Berlin:20240531T170000
DTSTAMP:20260421T164758
CREATED:20240505T154820Z
LAST-MODIFIED:20240515T124606Z
UID:7246-1717167600-1717174800@dresden-gruna.de
SUMMARY:Demokratie-Picknick am Akazienhof
DESCRIPTION:Was uns zusammenführt – Einladung zum Tag der Nachbarn 2024 \nLiebe Nachbarinnen und Nachbarn\, \nam 31. Mai laden wir im Rahmen des Tags der Nachbarn zu einem Demokratie-Picknick in den Akazienhof ein. \nWas uns zusammenführt? Nachbarn und Kandidierende für den Stadtbezirksbeirat Blasewitz reden miteinander über ihr Engagement und Themen\, die den Stadtteil bewegen. \nGemeinsam möchten wir das in Gruna bis jetzt Erreichte einordnen und Planungsschritte in die Zukunft erkunden. An Thementischen beraten im Stadtteil verankerte Nachbarn und Träger mit erfahrenen bisherigen und womöglich künftigen Stadtbezirksbeiräten über weitere Zukunftsthemen wie politische Mitbestimmung im Stadtteil\, die Stärken wirtschaftlicher\, sozialer und kultureller Eigenaktivitäten sowie der Natur- und Traditionspflege vor Ort\, der Ausbau von Sorge-Strukturen in den Wohnvierteln\, Fragen der Mobilität und vieles mehr. \nDiese Anliegen und die\, die Du\, liebe Nachbarin\, lieber Nachbar\, liebe Mandatsträger mitbringst\, wollen wir an Thementischen miteinander besprechen. Bevor es jedoch in den Austausch in den Kleingruppen geht\, bekommen wir einen kleinen Impulse zu dem\, was eine „Ermöglichende Stadtverwaltung“ zu leisten vermag (Amt für Stadtstrategie\, Internationales und Bürgerschaft). Am Ende werden wir das Erarbeitete zusammentragen\, Schlussfolgerungen ziehen und Verabredungen für mehr Gemeinsamkeit im Stadtteil und mit Mandatsträgern treffen. Die Ergebnisse werden schriftlich festgehalten\, um sie nach den Kommunalwahlen den neu gewählten Stadträten und Stadtbezirksbeiräten sowie der öffentlichen Verwaltung zur Kenntnis geben zu können und uns auch selbst künftig daran zu erinnern. \nDem Stadtteilverein und seinen Partnern ist es wichtig\, konstruktiv und auf Augenhöhe miteinander im Gespräch zu sein und daraus gern „Aufträge“ an künftige politische Mandatsträger abzuleiten. Das geht uns alle an\, denn Politik kann nur so gut sein\, wie wir als Nachbarn daran mitwirken. \nGanz in diesem Sinne wählen wir bewusst die Form eines Nachbarschafts-Mitbring-Picknicks und bitten alle Teilnehmenden\, mitzubringen\, was man selbst gern essen und mit Nachbarn teilen möchte. Um möglichst wenig Müll zu produzieren\, bitten wir außerdem darum\, eigenes Geschirr und Besteck mitzubringen. \nDas Gelingen hängt – wie in der Demokratie immer – von den Eigenbeiträgen aller Beteiligten ab. Der Eintritt ist frei\, aber natürlich dürfen Interessierte\, die nicht kommen können\, das Forum durch eine Geld- oder Sachspende gern unterstützen. \nWir freuen uns auf Euren Besuch beim Demokratie-Picknick im Garten der Villa Akazienhof! \nEine Veranstaltung des Stadtteilvereins “In Gruna leben e.V.  gemeinsam mit der Aktion Zivilcourage e.V. zum Tag der Nachbarn – https://www.tagdernachbarn.de/ – Bundesweiter Aktionstag unter dem Motto „Gemeinschaft feiern!“ für gesellschaftlichen Zusammenhalt  \nKontakt :  Stadtteilverein In Gruna leben e.V.  \nTel: 0157 51514692 – post@dresden-gruna.de  \nwww.tagdernachbarn.de/de/aktionen/01277-Dresden-Demokratiepicknick-am-Akazienhof/ \n \nZum Tag der Nachbarn 2024: Gemeinschaft feiern! \n… ist ein bundesweiter Aktionstag für nachbarschaftliches Miteinander. Seit 2018 ruft die nebenan.de Stiftung dazu auf\, am letzten Freitag im Mai kleine und große Aktionen und Feste in der Nachbarschaft zu veranstalten. Jedes Jahr kommen zu diesem Anlass in ganz Deutschland tausende Menschen unabhängig von Herkunft\, Alter\, Religion oder sozialer Zugehörigkeit zusammen\, um ihre Nachbarnkennenzulernen\, sich auszutauschen und gemeinsam eine gute Zeit zu verbringen. Unter dem Motto „Gemeinschaft feiern!“ beugen sie Vereinsamung und soziale Spaltung vor\, würdigen das nachbarschaftliche Miteinander und stärken vor Ort den gesellschaftlichen Zusammenhalt.
URL:https://dresden-gruna.de/event/demokratie-picknick-am-akazienhof/
LOCATION:Villa Akazienhof\, Schneebergstraße 16\, Schneebergstr. 16\, Dresden\, Sachsen\, 01277\, Deutschland
CATEGORIES:Akazienhof,Projekte und Aktionen
ATTACH;FMTTYPE=image/jpeg:https://dresden-gruna.de/wp-content/uploads/2024/05/Demokratiepicknick_04.jpg
ORGANIZER;CN="'In Gruna leben' e.V.":MAILTO:post@dresden-gruna.de
END:VEVENT
BEGIN:VEVENT
DTSTART;TZID=Europe/Berlin:20240531T163000
DTEND;TZID=Europe/Berlin:20240531T171500
DTSTAMP:20260421T164758
CREATED:20240527T150224Z
LAST-MODIFIED:20240527T150224Z
UID:7362-1717173000-1717175700@dresden-gruna.de
SUMMARY:Fit im Park - Kindersport 3-5 Jahre
DESCRIPTION:Ein spielerisches Bewegungsprogramm\, das die motorischen Fähigkeiten\, Koordination und Teamfähigkeit von Kindern im Vorschulalter fördert.
URL:https://dresden-gruna.de/event/fit-im-park-kindersport-3-5-jahre/
LOCATION:Rothermundpark\, Dresden\, 01277
ATTACH;FMTTYPE=image/png:https://dresden-gruna.de/wp-content/uploads/2024/05/Fit-im-Park.png
END:VEVENT
BEGIN:VEVENT
DTSTART;TZID=Europe/Berlin:20240531T173000
DTEND;TZID=Europe/Berlin:20240531T183000
DTSTAMP:20260421T164758
CREATED:20240527T150415Z
LAST-MODIFIED:20240527T150415Z
UID:7364-1717176600-1717180200@dresden-gruna.de
SUMMARY:Fit im Park - Lass brennen!
DESCRIPTION:Ein intensives Training\, das darauf abzielt\, Kalorien zu verbrennen\, die Ausdauer zu verbessern und die Muskelkraft durch verschiedene Cardio- und Kraftübungen zu steigern. \nBitte bringe zu diesem Kurs ein Handtuch oder eine Matte mit!
URL:https://dresden-gruna.de/event/fit-im-park-lass-brennen/
LOCATION:Rothermundpark\, Dresden\, 01277
ATTACH;FMTTYPE=image/png:https://dresden-gruna.de/wp-content/uploads/2024/05/Fit-im-Park.png
END:VEVENT
END:VCALENDAR