BEGIN:VCALENDAR
VERSION:2.0
PRODID:-//In Gruna leben e.V. - ECPv6.8.3//NONSGML v1.0//EN
CALSCALE:GREGORIAN
METHOD:PUBLISH
X-ORIGINAL-URL:https://dresden-gruna.de
X-WR-CALDESC:Veranstaltungen für In Gruna leben e.V.
REFRESH-INTERVAL;VALUE=DURATION:PT1H
X-Robots-Tag:noindex
X-PUBLISHED-TTL:PT1H
BEGIN:VTIMEZONE
TZID:Europe/Berlin
BEGIN:DAYLIGHT
TZOFFSETFROM:+0100
TZOFFSETTO:+0200
TZNAME:CEST
DTSTART:20240331T010000
END:DAYLIGHT
BEGIN:STANDARD
TZOFFSETFROM:+0200
TZOFFSETTO:+0100
TZNAME:CET
DTSTART:20241027T010000
END:STANDARD
END:VTIMEZONE
BEGIN:VEVENT
DTSTART;TZID=Europe/Berlin:20240530T130000
DTEND;TZID=Europe/Berlin:20240530T170000
DTSTAMP:20260421T164710
CREATED:20240425T094448Z
LAST-MODIFIED:20240529T055512Z
UID:7108-1717074000-1717088400@dresden-gruna.de
SUMMARY:Sprechzeit im Bürgertreff
DESCRIPTION:Sie können persönlich Kontakt zu uns aufnehmen und Anregungen\, Ideen & Wünsche äußern\, Fragen stellen oder Dich über unsere Aktionen und Mitmach-Möglichkeiten informieren. \nSie können aber auch gern einen Termin außerhalb der Sprechzeit  vereinbaren.  Telefon:    0351 26552063   oder  015227717854  vielen Dank \nAus Gesundheitlichen Gründen wird die Sprechstunde verschoben. \nschreiben Sie eine Mail an steffi.mueller-effenberger@dresden-gruna.de vielen Dank.
URL:https://dresden-gruna.de/event/sprechzeit-im-buergertreff-98/
LOCATION:Bürger-Treff „Grunaer Aue“ Winterbergstr.31c\, 01277 Dresden\, Winterbergstraße 31c\, Dresden\, 01277\, Deutschland
ORGANIZER;CN="'In Gruna leben' e.V.":MAILTO:post@dresden-gruna.de
END:VEVENT
BEGIN:VEVENT
DTSTART;TZID=Europe/Berlin:20240530T170000
DTEND;TZID=Europe/Berlin:20240530T183000
DTSTAMP:20260421T164710
CREATED:20240425T091337Z
LAST-MODIFIED:20240425T094205Z
UID:7089-1717088400-1717093800@dresden-gruna.de
SUMMARY:„Neu“ Handarbeitszirkel"
DESCRIPTION:Wer gerne in Gesellschaft nähen\, stricken\, häkeln oder sticken möchte\, oder seine Erfahrungen einbringen kann\, ist  herzlich willkommen. Es können natürlich auch andere Handwerke ausprobiert werden wie Holz Arbeiten \, Kreative Dinge und noch vieles mehr…..                                                                                      Haben Sie Fragen zu diesem Angebot\, dann können Sie gern mit                                Frau Müller -Effenberger  sprechen.  Vielen Dank. \nAnmeldung bitte unter: 015227717854
URL:https://dresden-gruna.de/event/neu-handarbeitszirkel-2/
LOCATION:Bürger-Treff „Grunaer Aue“ Winterbergstr.31c\, 01277 Dresden\, Winterbergstraße 31c\, Dresden\, 01277\, Deutschland
ORGANIZER;CN="'In Gruna leben' e.V.":MAILTO:post@dresden-gruna.de
END:VEVENT
BEGIN:VEVENT
DTSTART;TZID=Europe/Berlin:20240530T180000
DTEND;TZID=Europe/Berlin:20240530T190000
DTSTAMP:20260421T164710
CREATED:20240519T175327Z
LAST-MODIFIED:20240527T133134Z
UID:7311-1717092000-1717095600@dresden-gruna.de
SUMMARY:Cumanana - Afro Latino Tanzkurs im Akazienhof
DESCRIPTION:Vom 23. Mai bis 11. Juli\, und im ganzen August findet jeden Donnerstag zwischen 18 und 19 Uhr im Akazienhof ein afro-lateinamerikanischer Tanzkurs statt – Cumanana.\nCumanana kombiniert die lebhaften Rhythmen und Klänge der Afro-Volksmusik aus Peru\, Brasilien und der Karibik mit wirbelnden Kreisformationen. \nDer Kurs ist kostenlos und erfordert keine Anmeldung. Alle sind herzlich eingeladen teilzunehmen! \nKursleiterin María Vásquez de Grunewald: Instagram und Kurzvorstellung
URL:https://dresden-gruna.de/event/cumanana-tanzkurs/
LOCATION:Villa Akazienhof\, Schneebergstraße 16\, Schneebergstr. 16\, Dresden\, Sachsen\, 01277\, Deutschland
CATEGORIES:Akazienhof
ATTACH;FMTTYPE=image/jpeg:https://dresden-gruna.de/wp-content/uploads/2024/05/Insta_Akazienhof_Info_Post-1-e1716141114389.jpg
END:VEVENT
END:VCALENDAR