BEGIN:VCALENDAR
VERSION:2.0
PRODID:-//In Gruna leben e.V. - ECPv6.8.3//NONSGML v1.0//EN
CALSCALE:GREGORIAN
METHOD:PUBLISH
X-ORIGINAL-URL:https://dresden-gruna.de
X-WR-CALDESC:Veranstaltungen für In Gruna leben e.V.
REFRESH-INTERVAL;VALUE=DURATION:PT1H
X-Robots-Tag:noindex
X-PUBLISHED-TTL:PT1H
BEGIN:VTIMEZONE
TZID:Europe/Berlin
BEGIN:DAYLIGHT
TZOFFSETFROM:+0100
TZOFFSETTO:+0200
TZNAME:CEST
DTSTART:20240331T010000
END:DAYLIGHT
BEGIN:STANDARD
TZOFFSETFROM:+0200
TZOFFSETTO:+0100
TZNAME:CET
DTSTART:20241027T010000
END:STANDARD
END:VTIMEZONE
BEGIN:VEVENT
DTSTART;TZID=Europe/Berlin:20240519T100000
DTEND;TZID=Europe/Berlin:20240519T120000
DTSTAMP:20260421T182749
CREATED:20240516T231517Z
LAST-MODIFIED:20240516T231517Z
UID:7306-1716112800-1716120000@dresden-gruna.de
SUMMARY:Arbeitseinsatz Akazienhof: Wege frei machen
DESCRIPTION:Sonntag-Morgen-Workout im Freien? Gemeinsam wollen wir mit Ast- und Gartenschere\, Spaten und Hacke die Pfade im Akazienhof wieder sicher begehbar machen. Bringt gern arbeitstaugliche Kleidung mit. An Werkzeugen haben wir einiges vor Ort.
URL:https://dresden-gruna.de/event/arbeitseinsatz-akazienhof-wege-frei-machen/
LOCATION:Villa Akazienhof\, Schneebergstraße 16\, Schneebergstr. 16\, Dresden\, Sachsen\, 01277\, Deutschland
CATEGORIES:Akazienhof,Arbeitsgruppen,Projekte und Aktionen
ATTACH;FMTTYPE=image/png:https://dresden-gruna.de/wp-content/uploads/2024/05/aitubo.png
ORGANIZER;CN="'In Gruna leben' e.V.":MAILTO:post@dresden-gruna.de
END:VEVENT
END:VCALENDAR