BEGIN:VCALENDAR
VERSION:2.0
PRODID:-//In Gruna leben e.V. - ECPv6.8.3//NONSGML v1.0//EN
CALSCALE:GREGORIAN
METHOD:PUBLISH
X-ORIGINAL-URL:https://dresden-gruna.de
X-WR-CALDESC:Veranstaltungen für In Gruna leben e.V.
REFRESH-INTERVAL;VALUE=DURATION:PT1H
X-Robots-Tag:noindex
X-PUBLISHED-TTL:PT1H
BEGIN:VTIMEZONE
TZID:Europe/Berlin
BEGIN:DAYLIGHT
TZOFFSETFROM:+0100
TZOFFSETTO:+0200
TZNAME:CEST
DTSTART:20240331T010000
END:DAYLIGHT
BEGIN:STANDARD
TZOFFSETFROM:+0200
TZOFFSETTO:+0100
TZNAME:CET
DTSTART:20241027T010000
END:STANDARD
END:VTIMEZONE
BEGIN:VEVENT
DTSTART;TZID=Europe/Berlin:20240516T100000
DTEND;TZID=Europe/Berlin:20240516T120000
DTSTAMP:20260421T182756
CREATED:20240425T084747Z
LAST-MODIFIED:20240425T103947Z
UID:7074-1715853600-1715860800@dresden-gruna.de
SUMMARY:Koordinierungsverbund "Nachbarn helfen Nachbarn in Gruna"
DESCRIPTION:Achtung anderer Ort:  Akazienhof\, Alternative bei schlechten Wetter Lebendiger Leben   Rosenbergstraße 10
URL:https://dresden-gruna.de/event/koordinierungsverband-nachbarn-helfen-nachbarn-in-gruna/
LOCATION:Bürger-Treff „Grunaer Aue“ Winterbergstr.31c\, 01277 Dresden\, Winterbergstraße 31c\, Dresden\, 01277\, Deutschland
ORGANIZER;CN="Sigus e.V.":MAILTO:sigus-dd@t-online.de
END:VEVENT
BEGIN:VEVENT
DTSTART;TZID=Europe/Berlin:20240516T130000
DTEND;TZID=Europe/Berlin:20240516T180000
DTSTAMP:20260421T182756
CREATED:20240425T092128Z
LAST-MODIFIED:20240425T092128Z
UID:7098-1715864400-1715882400@dresden-gruna.de
SUMMARY:Sprechzeit im Bürgertreff
DESCRIPTION:Sie können persönlich Kontakt zu uns aufnehmen und Anregungen\, Ideen & Wünsche äußern\, Fragen stellen oder Dich über unsere Aktionen und Mitmach-Möglichkeiten informieren. \nSie können aber auch gern einen Termin außerhalb der Sprechzeit  vereinbaren.  Telefon:    0351 26552063   oder  015227717854  vielen Dank \noder schreiben Sie eine Mail an steffi.mueller-effenberger@dresden-gruna.de vielen Dank.
URL:https://dresden-gruna.de/event/sprechzeit-im-buergertreff-100/
LOCATION:Bürger-Treff „Grunaer Aue“ Winterbergstr.31c\, 01277 Dresden\, Winterbergstraße 31c\, Dresden\, 01277\, Deutschland
ORGANIZER;CN="'In Gruna leben' e.V.":MAILTO:post@dresden-gruna.de
END:VEVENT
END:VCALENDAR