BEGIN:VCALENDAR
VERSION:2.0
PRODID:-//In Gruna leben e.V. - ECPv6.8.3//NONSGML v1.0//EN
CALSCALE:GREGORIAN
METHOD:PUBLISH
X-ORIGINAL-URL:https://dresden-gruna.de
X-WR-CALDESC:Veranstaltungen für In Gruna leben e.V.
REFRESH-INTERVAL;VALUE=DURATION:PT1H
X-Robots-Tag:noindex
X-PUBLISHED-TTL:PT1H
BEGIN:VTIMEZONE
TZID:Europe/Berlin
BEGIN:DAYLIGHT
TZOFFSETFROM:+0100
TZOFFSETTO:+0200
TZNAME:CEST
DTSTART:20240331T010000
END:DAYLIGHT
BEGIN:STANDARD
TZOFFSETFROM:+0200
TZOFFSETTO:+0100
TZNAME:CET
DTSTART:20241027T010000
END:STANDARD
END:VTIMEZONE
BEGIN:VEVENT
DTSTART;TZID=Europe/Berlin:20240506T160000
DTEND;TZID=Europe/Berlin:20240506T180000
DTSTAMP:20260421T182023
CREATED:20230828T085840Z
LAST-MODIFIED:20240505T195623Z
UID:5692-1715011200-1715018400@dresden-gruna.de
SUMMARY:Malraum am Akazienhof verschoben
DESCRIPTION:Der Malraum Termin wird verschoben. \nNächesten Montag gibt es wieder die Möglichkeit seine Kreativität im Malraum auszudrücken. Jeweils eine Stunde von 16-17 Uhr und 17-18 Uhr im Grünen Pavillon am Akazienhof. \nBitte meldet euch bei Malraumleiterin Juliane Franke\n01520 1969994\, juliane.franke77@gmail.com
URL:https://dresden-gruna.de/event/malraum-am-gruenen-akazienhof-pavillon/
CATEGORIES:Treffen und Kurse
ATTACH;FMTTYPE=image/jpeg:https://dresden-gruna.de/wp-content/uploads/2023/06/images.jpg
ORGANIZER;CN="'In Gruna leben' e.V.":MAILTO:post@dresden-gruna.de
END:VEVENT
END:VCALENDAR