BEGIN:VCALENDAR
VERSION:2.0
PRODID:-//In Gruna leben e.V. - ECPv6.8.3//NONSGML v1.0//EN
CALSCALE:GREGORIAN
METHOD:PUBLISH
X-ORIGINAL-URL:https://dresden-gruna.de
X-WR-CALDESC:Veranstaltungen für In Gruna leben e.V.
REFRESH-INTERVAL;VALUE=DURATION:PT1H
X-Robots-Tag:noindex
X-PUBLISHED-TTL:PT1H
BEGIN:VTIMEZONE
TZID:Europe/Berlin
BEGIN:DAYLIGHT
TZOFFSETFROM:+0100
TZOFFSETTO:+0200
TZNAME:CEST
DTSTART:20240331T010000
END:DAYLIGHT
BEGIN:STANDARD
TZOFFSETFROM:+0200
TZOFFSETTO:+0100
TZNAME:CET
DTSTART:20241027T010000
END:STANDARD
END:VTIMEZONE
BEGIN:VEVENT
DTSTART;TZID=Europe/Berlin:20240313T140000
DTEND;TZID=Europe/Berlin:20240313T153000
DTSTAMP:20260421T212310
CREATED:20240220T120422Z
LAST-MODIFIED:20240220T120422Z
UID:6764-1710338400-1710343800@dresden-gruna.de
SUMMARY:"Nicht sehen trennt von Dingen; nicht hören trennt von Menschen"
DESCRIPTION:Ratschlag am Runden Tisch zur Alltagsgestaltung von Hörbeeinträchtigten in der Nachbarschaft. \nAchtung anderer Ort:  Haus an der Kreuzkirche\, An der Kreuzkirche 6\, 5 OG\, Anmeldung unter: sigus-dd@t-online.de oder 0351 2632138
URL:https://dresden-gruna.de/event/nicht-sehen-trennt-von-dingen-nicht-hoeren-trennt-von-menschen/
LOCATION:Bürger-Treff „Grunaer Aue“ Winterbergstr.31c\, 01277 Dresden\, Winterbergstraße 31c\, Dresden\, 01277\, Deutschland
ORGANIZER;CN="Sigus e.V.":MAILTO:sigus-dd@t-online.de
END:VEVENT
BEGIN:VEVENT
DTSTART;TZID=Europe/Berlin:20240313T190000
DTEND;TZID=Europe/Berlin:20240313T220000
DTSTAMP:20260421T212310
CREATED:20240220T120705Z
LAST-MODIFIED:20240220T120705Z
UID:6767-1710356400-1710367200@dresden-gruna.de
SUMMARY:Koordinierungskreis Solidarische Landwirtschaft Gruna
DESCRIPTION:
URL:https://dresden-gruna.de/event/koordinierungskreis-solidarische-landwirtschaft-gruna-13/
LOCATION:Bürger-Treff „Grunaer Aue“ Winterbergstr.31c\, 01277 Dresden\, Winterbergstraße 31c\, Dresden\, 01277\, Deutschland
ORGANIZER;CN="'In Gruna leben' e.V.":MAILTO:post@dresden-gruna.de
END:VEVENT
END:VCALENDAR