BEGIN:VCALENDAR
VERSION:2.0
PRODID:-//In Gruna leben e.V. - ECPv6.8.3//NONSGML v1.0//EN
CALSCALE:GREGORIAN
METHOD:PUBLISH
X-ORIGINAL-URL:https://dresden-gruna.de
X-WR-CALDESC:Veranstaltungen für In Gruna leben e.V.
REFRESH-INTERVAL;VALUE=DURATION:PT1H
X-Robots-Tag:noindex
X-PUBLISHED-TTL:PT1H
BEGIN:VTIMEZONE
TZID:Europe/Berlin
BEGIN:DAYLIGHT
TZOFFSETFROM:+0100
TZOFFSETTO:+0200
TZNAME:CEST
DTSTART:20240331T010000
END:DAYLIGHT
BEGIN:STANDARD
TZOFFSETFROM:+0200
TZOFFSETTO:+0100
TZNAME:CET
DTSTART:20241027T010000
END:STANDARD
END:VTIMEZONE
BEGIN:VEVENT
DTSTART;TZID=Europe/Berlin:20240311T100000
DTEND;TZID=Europe/Berlin:20240311T120000
DTSTAMP:20260421T211630
CREATED:20240220T115304Z
LAST-MODIFIED:20240220T115304Z
UID:6757-1710151200-1710158400@dresden-gruna.de
SUMMARY:DigitalCafé\, die Sprechstunde zu Smartphone & Co.
DESCRIPTION:Das DigitalCafé findet als Sprechstunde ausgebildeter Technikbotschafter zu Fragen im Umgang mit Smartphone & Co.\nimmer am 2. Montag in der Zeit zwischen 10 und 12 Uhr im Bürgertreff „Grunaer Aue“\,\nWinterbergstr. 31c\, 10277 Dresden statt. \nWeitere Informationen  auf der WEB-Seite DigitalCafe! \n\n\n\n\n Zum Kalender hinzufügen
URL:https://dresden-gruna.de/event/digitalcafe-die-sprechstunde-zu-smartphone-co-11/
LOCATION:Bürger-Treff „Grunaer Aue“ Winterbergstr.31c\, 01277 Dresden\, Winterbergstraße 31c\, Dresden\, 01277\, Deutschland
ATTACH;FMTTYPE=image/jpeg:https://dresden-gruna.de/wp-content/uploads/2022/12/images.jpg
ORGANIZER;CN="'In Gruna leben' e.V.":MAILTO:post@dresden-gruna.de
END:VEVENT
BEGIN:VEVENT
DTSTART;TZID=Europe/Berlin:20240311T150000
DTEND;TZID=Europe/Berlin:20240311T163000
DTSTAMP:20260421T211630
CREATED:20240220T115646Z
LAST-MODIFIED:20240220T115646Z
UID:6759-1710169200-1710174600@dresden-gruna.de
SUMMARY:Literarische Telefonzelle „Müllex lässt lesen“
DESCRIPTION:Diesmal: „Guten Morgen\, du Schöne“\, 3 Portraits aus Maxie Winters Bestseller von 1977. \nAnmeldung zum Erhalt der Zugangsdaten bitte an 0351 2632138 oder \nsigus-dd@t-online
URL:https://dresden-gruna.de/event/literarische-telefonzelle-muellex-laesst-lesen-6/
LOCATION:Bürger-Treff „Grunaer Aue“ Winterbergstr.31c\, 01277 Dresden\, Winterbergstraße 31c\, Dresden\, 01277\, Deutschland
ATTACH;FMTTYPE=image/png:https://dresden-gruna.de/wp-content/uploads/2023/01/telefon.png
ORGANIZER;CN="Sigus e.V.":MAILTO:sigus-dd@t-online.de
END:VEVENT
END:VCALENDAR