BEGIN:VCALENDAR
VERSION:2.0
PRODID:-//In Gruna leben e.V. - ECPv6.8.3//NONSGML v1.0//EN
CALSCALE:GREGORIAN
METHOD:PUBLISH
X-ORIGINAL-URL:https://dresden-gruna.de
X-WR-CALDESC:Veranstaltungen für In Gruna leben e.V.
REFRESH-INTERVAL;VALUE=DURATION:PT1H
X-Robots-Tag:noindex
X-PUBLISHED-TTL:PT1H
BEGIN:VTIMEZONE
TZID:Europe/Berlin
BEGIN:DAYLIGHT
TZOFFSETFROM:+0100
TZOFFSETTO:+0200
TZNAME:CEST
DTSTART:20240331T010000
END:DAYLIGHT
BEGIN:STANDARD
TZOFFSETFROM:+0200
TZOFFSETTO:+0100
TZNAME:CET
DTSTART:20241027T010000
END:STANDARD
END:VTIMEZONE
BEGIN:VEVENT
DTSTART;TZID=Europe/Berlin:20240308T110000
DTEND;TZID=Europe/Berlin:20240308T110000
DTSTAMP:20260421T211616
CREATED:20240303T002015Z
LAST-MODIFIED:20240303T002015Z
UID:6839-1709895600-1709895600@dresden-gruna.de
SUMMARY:Stolpersteinverlegung
DESCRIPTION:Liebe Nachbarinnen und Nachbarn\,\nvor dem Haus Beilstr. 14 findet am 8. März 2024 gegen 11:05 Uhr eine Stolpersteinverlegung statt.\nWir werden hier fünf Stolpersteine für das Ehepaar Sternfeld und ihre drei Kinder verlegen. Sie sind herzlich\neingeladen\, an dieser Zeremonie teilzunehmen. \nFlyer A4
URL:https://dresden-gruna.de/event/stolpersteinverlegung/
LOCATION:Beilstraße 14\, Beilstraße 14\, Dresden
END:VEVENT
BEGIN:VEVENT
DTSTART;TZID=Europe/Berlin:20240308T160000
DTEND;TZID=Europe/Berlin:20240308T190000
DTSTAMP:20260421T211616
CREATED:20240220T114835Z
LAST-MODIFIED:20240302T180917Z
UID:6754-1709913600-1709924400@dresden-gruna.de
SUMMARY:Frauentag im Bürgertreff fällt leider aus
DESCRIPTION:Krankheitsbedingt fällt der Frauentag im Bürgertreff leider aus. \nAm 16.03. heißt es wieder „Gruna Kocht“
URL:https://dresden-gruna.de/event/wir-feiern-frauentag/
LOCATION:Bürger-Treff „Grunaer Aue“ Winterbergstr.31c\, 01277 Dresden\, Winterbergstraße 31c\, Dresden\, 01277\, Deutschland
ATTACH;FMTTYPE=image/jpeg:https://dresden-gruna.de/wp-content/uploads/2024/02/Frauentag.jpg
ORGANIZER;CN="'In Gruna leben' e.V.":MAILTO:post@dresden-gruna.de
END:VEVENT
END:VCALENDAR