BEGIN:VCALENDAR
VERSION:2.0
PRODID:-//In Gruna leben e.V. - ECPv6.8.3//NONSGML v1.0//EN
CALSCALE:GREGORIAN
METHOD:PUBLISH
X-ORIGINAL-URL:https://dresden-gruna.de
X-WR-CALDESC:Veranstaltungen für In Gruna leben e.V.
REFRESH-INTERVAL;VALUE=DURATION:PT1H
X-Robots-Tag:noindex
X-PUBLISHED-TTL:PT1H
BEGIN:VTIMEZONE
TZID:Europe/Berlin
BEGIN:DAYLIGHT
TZOFFSETFROM:+0100
TZOFFSETTO:+0200
TZNAME:CEST
DTSTART:20240331T010000
END:DAYLIGHT
BEGIN:STANDARD
TZOFFSETFROM:+0200
TZOFFSETTO:+0100
TZNAME:CET
DTSTART:20241027T010000
END:STANDARD
END:VTIMEZONE
BEGIN:VEVENT
DTSTART;TZID=Europe/Berlin:20240306T100000
DTEND;TZID=Europe/Berlin:20240306T113000
DTSTAMP:20260421T211616
CREATED:20240220T113257Z
LAST-MODIFIED:20240220T113257Z
UID:6750-1709719200-1709724600@dresden-gruna.de
SUMMARY:Biografie-und Schreibkreis
DESCRIPTION:Wir erzählen\, schreiben und lesen Geschichten aus unserem Leben – \nANMELDUNG ERFORDERLICH  unter 0351 2632138
URL:https://dresden-gruna.de/event/biografie-und-schreibkreis-21/
LOCATION:Bürger-Treff „Grunaer Aue“ Winterbergstr.31c\, 01277 Dresden\, Winterbergstraße 31c\, Dresden\, 01277\, Deutschland
ATTACH;FMTTYPE=image/png:https://dresden-gruna.de/wp-content/uploads/2023/01/Buch-1.png
ORGANIZER;CN="Sigus e.V.":MAILTO:sigus-dd@t-online.de
END:VEVENT
BEGIN:VEVENT
DTSTART;TZID=Europe/Berlin:20240306T170000
DTEND;TZID=Europe/Berlin:20240306T183000
DTSTAMP:20260421T211616
CREATED:20240220T114010Z
LAST-MODIFIED:20240220T114010Z
UID:6752-1709744400-1709749800@dresden-gruna.de
SUMMARY:PflegeCafé Gruna
DESCRIPTION:Mit Struktur durch den Alltag?! für Pflegebedürftige\, ihre Angehörigen und Helfer und Nachbarn. \nAchtung anderer Ort: Seniorenbegegnungsstätte  „fidelio“ Papstdorfer Straße 25\, 01277 Dresden
URL:https://dresden-gruna.de/event/pflegecafe-gruna/
LOCATION:Bürger-Treff „Grunaer Aue“ Winterbergstr.31c\, 01277 Dresden\, Winterbergstraße 31c\, Dresden\, 01277\, Deutschland
ATTACH;FMTTYPE=image/jpeg:https://dresden-gruna.de/wp-content/uploads/2023/02/blumen-1.jpg
ORGANIZER;CN="Sigus e.V.":MAILTO:sigus-dd@t-online.de
END:VEVENT
BEGIN:VEVENT
DTSTART;TZID=Europe/Berlin:20240306T190000
DTEND;TZID=Europe/Berlin:20240306T190000
DTSTAMP:20260421T211616
CREATED:20240220T130333Z
LAST-MODIFIED:20240220T144620Z
UID:6794-1709751600-1709751600@dresden-gruna.de
SUMMARY:Selbsthilfegruppe Eltern für Kinder
DESCRIPTION:
URL:https://dresden-gruna.de/event/selbsthilfegruppe-eltern-fuer-kinder-7/
LOCATION:Bürger-Treff „Grunaer Aue“ Winterbergstr.31c\, 01277 Dresden\, Winterbergstraße 31c\, Dresden\, 01277\, Deutschland
ORGANIZER;CN="'In Gruna leben' e.V.":MAILTO:post@dresden-gruna.de
END:VEVENT
END:VCALENDAR