BEGIN:VCALENDAR
VERSION:2.0
PRODID:-//In Gruna leben e.V. - ECPv6.8.3//NONSGML v1.0//EN
CALSCALE:GREGORIAN
METHOD:PUBLISH
X-ORIGINAL-URL:https://dresden-gruna.de
X-WR-CALDESC:Veranstaltungen für In Gruna leben e.V.
REFRESH-INTERVAL;VALUE=DURATION:PT1H
X-Robots-Tag:noindex
X-PUBLISHED-TTL:PT1H
BEGIN:VTIMEZONE
TZID:Europe/Berlin
BEGIN:DAYLIGHT
TZOFFSETFROM:+0100
TZOFFSETTO:+0200
TZNAME:CEST
DTSTART:20240331T010000
END:DAYLIGHT
BEGIN:STANDARD
TZOFFSETFROM:+0200
TZOFFSETTO:+0100
TZNAME:CET
DTSTART:20241027T010000
END:STANDARD
END:VTIMEZONE
BEGIN:VEVENT
DTSTART;TZID=Europe/Berlin:20240229T100000
DTEND;TZID=Europe/Berlin:20240229T120000
DTSTAMP:20260421T211518
CREATED:20240201T095010Z
LAST-MODIFIED:20240201T095146Z
UID:6683-1709200800-1709208000@dresden-gruna.de
SUMMARY:Nachbarn helfen Nachbarn
DESCRIPTION:Grunaer Koordinierungsgruppe\, \nBitte beachten anderer Ort: Seniorenzentrum Fidelio
URL:https://dresden-gruna.de/event/nachbar-helfen-nachbarn/
LOCATION:Bürger-Treff „Grunaer Aue“ Winterbergstr.31c\, 01277 Dresden\, Winterbergstraße 31c\, Dresden\, 01277\, Deutschland
ORGANIZER;CN="Sigus e.V.":MAILTO:sigus-dd@t-online.de
END:VEVENT
END:VCALENDAR