BEGIN:VCALENDAR
VERSION:2.0
PRODID:-//In Gruna leben e.V. - ECPv6.8.3//NONSGML v1.0//EN
CALSCALE:GREGORIAN
METHOD:PUBLISH
X-ORIGINAL-URL:https://dresden-gruna.de
X-WR-CALDESC:Veranstaltungen für In Gruna leben e.V.
REFRESH-INTERVAL;VALUE=DURATION:PT1H
X-Robots-Tag:noindex
X-PUBLISHED-TTL:PT1H
BEGIN:VTIMEZONE
TZID:Europe/Berlin
BEGIN:DAYLIGHT
TZOFFSETFROM:+0100
TZOFFSETTO:+0200
TZNAME:CEST
DTSTART:20240331T010000
END:DAYLIGHT
BEGIN:STANDARD
TZOFFSETFROM:+0200
TZOFFSETTO:+0100
TZNAME:CET
DTSTART:20241027T010000
END:STANDARD
END:VTIMEZONE
BEGIN:VEVENT
DTSTART;TZID=Europe/Berlin:20240224T170000
DTEND;TZID=Europe/Berlin:20240224T170000
DTSTAMP:20260422T003045
CREATED:20240108T122534Z
LAST-MODIFIED:20240122T101857Z
UID:6526-1708794000-1708794000@dresden-gruna.de
SUMMARY:Skatabend
DESCRIPTION:Wir laden Euch rechtherzlich zu einem Abend rund um das Skatspielen ein. Wer reizt der gewinnt. Natürlich können auch andere Spiele gespielt werden. \n 
URL:https://dresden-gruna.de/event/skatabend/
LOCATION:Bürger-Treff „Grunaer Aue“ Winterbergstr.31c\, 01277 Dresden\, Winterbergstraße 31c\, Dresden\, 01277\, Deutschland
ATTACH;FMTTYPE=image/webp:https://dresden-gruna.de/wp-content/uploads/2024/01/Skat-Karten-Vorlage-Deutsches-Blatt-1024x683-1.webp
ORGANIZER;CN="'In Gruna leben' e.V.":MAILTO:post@dresden-gruna.de
END:VEVENT
END:VCALENDAR