BEGIN:VCALENDAR
VERSION:2.0
PRODID:-//In Gruna leben e.V. - ECPv6.8.3//NONSGML v1.0//EN
CALSCALE:GREGORIAN
METHOD:PUBLISH
X-ORIGINAL-URL:https://dresden-gruna.de
X-WR-CALDESC:Veranstaltungen für In Gruna leben e.V.
REFRESH-INTERVAL;VALUE=DURATION:PT1H
X-Robots-Tag:noindex
X-PUBLISHED-TTL:PT1H
BEGIN:VTIMEZONE
TZID:Europe/Berlin
BEGIN:DAYLIGHT
TZOFFSETFROM:+0100
TZOFFSETTO:+0200
TZNAME:CEST
DTSTART:20230326T010000
END:DAYLIGHT
BEGIN:STANDARD
TZOFFSETFROM:+0200
TZOFFSETTO:+0100
TZNAME:CET
DTSTART:20231029T010000
END:STANDARD
END:VTIMEZONE
BEGIN:VEVENT
DTSTART;TZID=Europe/Berlin:20231217T170000
DTEND;TZID=Europe/Berlin:20231217T171500
DTSTAMP:20260422T024042
CREATED:20231212T085720Z
LAST-MODIFIED:20231212T085853Z
UID:6374-1702832400-1702833300@dresden-gruna.de
SUMMARY:Feuershow
DESCRIPTION:Im Rahmen das Grunaer Adventskalenders findet am 17.12. um 17 Uhr im Akazienhof eine öffentliche Feuershow samt Livemusik statt.\nPräsentiert von www.zafizu.de \nAchtung: nur bei geeignetem Wetter! \nEintritt frei\, Spenden willkommen 😉
URL:https://dresden-gruna.de/event/feuershow-2/
LOCATION:Villa Akazienhof\, Schneebergstraße 16\, Schneebergstr. 16\, Dresden\, Sachsen\, 01277\, Deutschland
CATEGORIES:Akazienhof,Feste,Projekte und Aktionen
ATTACH;FMTTYPE=image/jpeg:https://dresden-gruna.de/wp-content/uploads/2023/12/17-12-2023_Plakat_Feuer-Show-Akazienhof.jpg
ORGANIZER;CN="'In Gruna leben' e.V.":MAILTO:post@dresden-gruna.de
END:VEVENT
END:VCALENDAR