BEGIN:VCALENDAR
VERSION:2.0
PRODID:-//In Gruna leben e.V. - ECPv6.8.3//NONSGML v1.0//EN
CALSCALE:GREGORIAN
METHOD:PUBLISH
X-ORIGINAL-URL:https://dresden-gruna.de
X-WR-CALDESC:Veranstaltungen für In Gruna leben e.V.
REFRESH-INTERVAL;VALUE=DURATION:PT1H
X-Robots-Tag:noindex
X-PUBLISHED-TTL:PT1H
BEGIN:VTIMEZONE
TZID:Europe/Berlin
BEGIN:DAYLIGHT
TZOFFSETFROM:+0100
TZOFFSETTO:+0200
TZNAME:CEST
DTSTART:20230326T010000
END:DAYLIGHT
BEGIN:STANDARD
TZOFFSETFROM:+0200
TZOFFSETTO:+0100
TZNAME:CET
DTSTART:20231029T010000
END:STANDARD
END:VTIMEZONE
BEGIN:VEVENT
DTSTART;TZID=Europe/Berlin:20231107T130000
DTEND;TZID=Europe/Berlin:20231107T180000
DTSTAMP:20260422T041951
CREATED:20231019T105245Z
LAST-MODIFIED:20231019T105245Z
UID:6105-1699362000-1699380000@dresden-gruna.de
SUMMARY:Sprechzeit im Bürgertreff
DESCRIPTION:Sie können persönlich Kontakt zu uns aufnehmen und Anregungen\, Ideen & Wünsche äußern\, Fragen stellen oder Dich über unsere Aktionen und Mitmach-Möglichkeiten informieren. \nSie können aber auch gern einen Termin außerhalb der Sprechzeit  vereinbaren.  Telefon:    0351 26552063   oder  015227717854  vielen Dank \noder schreiben Sie eine Mail an steffi.mueller-effenberger@dresden-gruna.de vielen Dank.
URL:https://dresden-gruna.de/event/sprechzeit-im-buergertreff-69/
LOCATION:Bürger-Treff „Grunaer Aue“ Winterbergstr.31c\, 01277 Dresden\, Winterbergstraße 31c\, Dresden\, 01277\, Deutschland
ORGANIZER;CN="'In Gruna leben' e.V.":MAILTO:post@dresden-gruna.de
END:VEVENT
BEGIN:VEVENT
DTSTART;TZID=Europe/Berlin:20231107T180000
DTEND;TZID=Europe/Berlin:20231107T193000
DTSTAMP:20260422T041951
CREATED:20231019T105536Z
LAST-MODIFIED:20231019T105536Z
UID:6107-1699380000-1699385400@dresden-gruna.de
SUMMARY:IGL Plenum – Nachbarn willkommen im Bürgertreff
DESCRIPTION:Kommen Sie gern mit uns ins Gespräch. Das IGL Plenum im Bürgertreff ist für den Verein und offen für Alle. Ihre Anregungen\, Ideen und Fragen aus und für die Nachbarschaft sind uns wichtig. \nJeden 1. & 3. Dienstag im Monat im Bürgertreff 🏠
URL:https://dresden-gruna.de/event/igl-plenum-nachbarn-willkommen-im-buergertreff-17/
LOCATION:Bürger-Treff „Grunaer Aue“ Winterbergstr.31c\, 01277 Dresden\, Winterbergstraße 31c\, Dresden\, 01277\, Deutschland
ATTACH;FMTTYPE=image/jpeg:https://dresden-gruna.de/wp-content/uploads/2023/02/junge-leute-stehen-und-reden-miteinander-sprachblase-smartphone-flache-vektorillustration-des-maedchens-kommunikation-und-diskussion_74855-8741.jpg
ORGANIZER;CN="'In Gruna leben' e.V.":MAILTO:post@dresden-gruna.de
END:VEVENT
END:VCALENDAR