BEGIN:VCALENDAR
VERSION:2.0
PRODID:-//In Gruna leben e.V. - ECPv6.8.3//NONSGML v1.0//EN
CALSCALE:GREGORIAN
METHOD:PUBLISH
X-ORIGINAL-URL:https://dresden-gruna.de
X-WR-CALDESC:Veranstaltungen für In Gruna leben e.V.
REFRESH-INTERVAL;VALUE=DURATION:PT1H
X-Robots-Tag:noindex
X-PUBLISHED-TTL:PT1H
BEGIN:VTIMEZONE
TZID:Europe/Berlin
BEGIN:DAYLIGHT
TZOFFSETFROM:+0100
TZOFFSETTO:+0200
TZNAME:CEST
DTSTART:20230326T010000
END:DAYLIGHT
BEGIN:STANDARD
TZOFFSETFROM:+0200
TZOFFSETTO:+0100
TZNAME:CET
DTSTART:20231029T010000
END:STANDARD
END:VTIMEZONE
BEGIN:VEVENT
DTSTART;TZID=Europe/Berlin:20231103T093000
DTEND;TZID=Europe/Berlin:20231103T103000
DTSTAMP:20260422T041958
CREATED:20230723T042337Z
LAST-MODIFIED:20231025T145811Z
UID:5513-1699003800-1699007400@dresden-gruna.de
SUMMARY:Baby-& Bauch - Der Treff für werdende und frischgebackene Eltern
DESCRIPTION:Wir laden alle werdenden und frischgebackenen Eltern zum Baby-& Bauch-Treff ins Eltern-Kind-Büro Gruna ein. Für die Kinder gibt es erste Lieder\, Fingerspiele\, Babyzeichen und anregendes Spielzeug zu entdecken. Für Mütter und Väter bietet die Gruppe die Möglichkeit\, sich auszutauschen\, Kontakte zu knüpfen und Informationen zu wichtigen Themen im Leben mit Baby und Kleinkind zu bekommen.\nDiesmal könnt ihr all eure Fragen rund um das Thema „Babyschlaf“ loswerden. \nBitte melde dich vorher an.\nDie Veranstaltung ist kostenfrei\, wir bitten um eine Spende. \nDer Treff findet immer am ersten Freitag im Monat statt.
URL:https://dresden-gruna.de/event/baby-bauch-der-treff-fuer-werdende-und-frischgebackene-eltern-4/
LOCATION:Eltern-Kind-Büro\, Rosenbergstr. 10\, Dresden\, 01277\, Deutschland
CATEGORIES:Treffen und Kurse
ATTACH;FMTTYPE=image/jpeg:https://dresden-gruna.de/wp-content/uploads/2022/09/resize.jpg
END:VEVENT
END:VCALENDAR