BEGIN:VCALENDAR
VERSION:2.0
PRODID:-//In Gruna leben e.V. - ECPv6.8.3//NONSGML v1.0//EN
CALSCALE:GREGORIAN
METHOD:PUBLISH
X-ORIGINAL-URL:https://dresden-gruna.de
X-WR-CALDESC:Veranstaltungen für In Gruna leben e.V.
REFRESH-INTERVAL;VALUE=DURATION:PT1H
X-Robots-Tag:noindex
X-PUBLISHED-TTL:PT1H
BEGIN:VTIMEZONE
TZID:Europe/Berlin
BEGIN:DAYLIGHT
TZOFFSETFROM:+0100
TZOFFSETTO:+0200
TZNAME:CEST
DTSTART:20230326T010000
END:DAYLIGHT
BEGIN:STANDARD
TZOFFSETFROM:+0200
TZOFFSETTO:+0100
TZNAME:CET
DTSTART:20231029T010000
END:STANDARD
END:VTIMEZONE
BEGIN:VEVENT
DTSTART;TZID=Europe/Berlin:20230914T130000
DTEND;TZID=Europe/Berlin:20230914T180000
DTSTAMP:20260422T074016
CREATED:20230817T134250Z
LAST-MODIFIED:20230817T134250Z
UID:5670-1694696400-1694714400@dresden-gruna.de
SUMMARY:Sprechzeit im Bürgertreff
DESCRIPTION:Sie können persönlich Kontakt zu uns aufnehmen und Anregungen\, Ideen & Wünsche äußern\, Fragen stellen oder Dich über unsere Aktionen und Mitmach-Möglichkeiten informieren. \nSie können aber auch gern einen Termin außerhalb der Sprechzeit  vereinbaren.  Telefon:    0351 26552063   oder  015227717854  vielen Dank
URL:https://dresden-gruna.de/event/sprechzeit-im-buergertreff-58/
LOCATION:Bürger-Treff „Grunaer Aue“ Winterbergstr.31c\, 01277 Dresden\, Winterbergstraße 31c\, Dresden\, 01277\, Deutschland
ORGANIZER;CN="'In Gruna leben' e.V.":MAILTO:post@dresden-gruna.de
END:VEVENT
BEGIN:VEVENT
DTSTART;TZID=Europe/Berlin:20230914T150000
DTEND;TZID=Europe/Berlin:20230914T170000
DTSTAMP:20260422T074016
CREATED:20230831T134707Z
LAST-MODIFIED:20230831T134707Z
UID:5728-1694703600-1694710800@dresden-gruna.de
SUMMARY:Vortrag zum Thema Patientenverfügung und Vollmachten Teil 1
DESCRIPTION:Wir erfahren\, was ist wichtig zu diesem Thema\, Patientenverfügung und Vollmachten
URL:https://dresden-gruna.de/event/vortrag-zum-thema-patientenverfuegung-und-vollmachten-teil-1/
LOCATION:Bürger-Treff „Grunaer Aue“ Winterbergstr.31c\, 01277 Dresden\, Winterbergstraße 31c\, Dresden\, 01277\, Deutschland
ATTACH;FMTTYPE=image/jpeg:https://dresden-gruna.de/wp-content/uploads/2023/08/2020_Patientenverfuegung.jpeg
ORGANIZER;CN="'In Gruna leben' e.V.":MAILTO:post@dresden-gruna.de
END:VEVENT
BEGIN:VEVENT
DTSTART;TZID=Europe/Berlin:20230914T170000
DTEND;TZID=Europe/Berlin:20230914T190000
DTSTAMP:20260422T074016
CREATED:20230912T144753Z
LAST-MODIFIED:20230912T144753Z
UID:5823-1694710800-1694718000@dresden-gruna.de
SUMMARY:gemeinsame Gartengestaltung im Akazienhof mit einen kleinen Imbiss
DESCRIPTION:Hallo liebe Nachbar: innen und Freund: innen in Gruna und Umgebung\, \njeden Donnerstag  ab 17:00 Uhr laden wir in den Garten des Akazienhofs ein! \nAn diesem Abend wollen wir nicht nur gemeinsam Ideen für Garten und Villa sammeln\, sondern auch anpacken und den Garten gestalten mit Beeten\, Blumen und was noch so in einem Garten passt. \nund wir werden euch auch über den aktuellen Stand des Projekts informieren. \nNebenbei soll entspannt miteinander gegessen und getrunken werden\, also bringt gerne mit\, was ihr wollt. 🍝🍛🍲🍜 \nWir freuen uns auf euch!
URL:https://dresden-gruna.de/event/gemeinsame-gartengestaltung-im-akazienhof-mit-einen-kleinen-imbiss/
LOCATION:Villa Akazienhof\, Schneebergstraße 16\, Schneebergstr. 16\, Dresden\, Sachsen\, 01277\, Deutschland
ATTACH;FMTTYPE=image/jpeg:https://dresden-gruna.de/wp-content/uploads/2023/03/InShot_20220719_135909027.jpg
ORGANIZER;CN="'In Gruna leben' e.V.":MAILTO:post@dresden-gruna.de
END:VEVENT
END:VCALENDAR