BEGIN:VCALENDAR
VERSION:2.0
PRODID:-//In Gruna leben e.V. - ECPv6.8.3//NONSGML v1.0//EN
CALSCALE:GREGORIAN
METHOD:PUBLISH
X-ORIGINAL-URL:https://dresden-gruna.de
X-WR-CALDESC:Veranstaltungen für In Gruna leben e.V.
REFRESH-INTERVAL;VALUE=DURATION:PT1H
X-Robots-Tag:noindex
X-PUBLISHED-TTL:PT1H
BEGIN:VTIMEZONE
TZID:Europe/Berlin
BEGIN:DAYLIGHT
TZOFFSETFROM:+0100
TZOFFSETTO:+0200
TZNAME:CEST
DTSTART:20230326T010000
END:DAYLIGHT
BEGIN:STANDARD
TZOFFSETFROM:+0200
TZOFFSETTO:+0100
TZNAME:CET
DTSTART:20231029T010000
END:STANDARD
END:VTIMEZONE
BEGIN:VEVENT
DTSTART;TZID=Europe/Berlin:20230831T100000
DTEND;TZID=Europe/Berlin:20230831T120000
DTSTAMP:20260422T073934
CREATED:20230727T140231Z
LAST-MODIFIED:20230727T140231Z
UID:5596-1693476000-1693483200@dresden-gruna.de
SUMMARY:Grunaer Stadtteilrunde
DESCRIPTION:im Garten der Villa Akazienhof
URL:https://dresden-gruna.de/event/grunaer-stadtteilrunde-2/
LOCATION:Bürger-Treff „Grunaer Aue“ Winterbergstr.31c\, 01277 Dresden\, Winterbergstraße 31c\, Dresden\, 01277\, Deutschland
ORGANIZER;CN="'In Gruna leben' e.V.":MAILTO:post@dresden-gruna.de
END:VEVENT
BEGIN:VEVENT
DTSTART;TZID=Europe/Berlin:20230831T150000
DTEND;TZID=Europe/Berlin:20230831T180000
DTSTAMP:20260422T073934
CREATED:20230727T150843Z
LAST-MODIFIED:20230727T150843Z
UID:5606-1693494000-1693504800@dresden-gruna.de
SUMMARY:Sprechzeit im Bürgertreff
DESCRIPTION:Sie können persönlich Kontakt zu uns aufnehmen und Anregungen\, Ideen & Wünsche äußern\, Fragen stellen oder Dich über unsere Aktionen und Mitmach-Möglichkeiten informieren. \nSie können aber auch gern einen Termin außerhalb der Sprechzeit  vereinbaren.  Telefon:    0351 26552063   oder  015227717854  vielen Dank
URL:https://dresden-gruna.de/event/sprechzeit-im-buergertreff-56/
LOCATION:Bürger-Treff „Grunaer Aue“ Winterbergstr.31c\, 01277 Dresden\, Winterbergstraße 31c\, Dresden\, 01277\, Deutschland
ORGANIZER;CN="'In Gruna leben' e.V.":MAILTO:post@dresden-gruna.de
END:VEVENT
BEGIN:VEVENT
DTSTART;TZID=Europe/Berlin:20230831T170000
DTEND;TZID=Europe/Berlin:20230831T190000
DTSTAMP:20260422T073934
CREATED:20230726T122617Z
LAST-MODIFIED:20230828T084613Z
UID:5523-1693501200-1693508400@dresden-gruna.de
SUMMARY:Gartentreff am Akazienhof
DESCRIPTION:Wir laden wieder zum Gartentreffen und Nachbarschaftspicknick in den Akazienhof Garten. Im Sommer planen\, bauen\, schneiden und gärtnern wir wieder regelmäßig. Auch zu anderen Gelegenheiten könnt ihr Euch gern vorbei schauen\, plaudern und euch einbringen.\n\n\nJeden Donnerstag ab 17 Uhr im Akazienhof Gruna
URL:https://dresden-gruna.de/event/gartentreff-am-akazienhof/
LOCATION:Villa Akazienhof\, Schneebergstraße 16\, Schneebergstr. 16\, Dresden\, Sachsen\, 01277\, Deutschland
ORGANIZER;CN="'In Gruna leben' e.V.":MAILTO:post@dresden-gruna.de
END:VEVENT
END:VCALENDAR