BEGIN:VCALENDAR
VERSION:2.0
PRODID:-//In Gruna leben e.V. - ECPv6.8.3//NONSGML v1.0//EN
CALSCALE:GREGORIAN
METHOD:PUBLISH
X-ORIGINAL-URL:https://dresden-gruna.de
X-WR-CALDESC:Veranstaltungen für In Gruna leben e.V.
REFRESH-INTERVAL;VALUE=DURATION:PT1H
X-Robots-Tag:noindex
X-PUBLISHED-TTL:PT1H
BEGIN:VTIMEZONE
TZID:Europe/Berlin
BEGIN:DAYLIGHT
TZOFFSETFROM:+0100
TZOFFSETTO:+0200
TZNAME:CEST
DTSTART:20230326T010000
END:DAYLIGHT
BEGIN:STANDARD
TZOFFSETFROM:+0200
TZOFFSETTO:+0100
TZNAME:CET
DTSTART:20231029T010000
END:STANDARD
END:VTIMEZONE
BEGIN:VEVENT
DTSTART;TZID=Europe/Berlin:20230821T140000
DTEND;TZID=Europe/Berlin:20230821T150000
DTSTAMP:20260422T092129
CREATED:20230727T130525Z
LAST-MODIFIED:20230727T130525Z
UID:5570-1692626400-1692630000@dresden-gruna.de
SUMMARY:Sprechzeit des Nachbarschaftskreises
DESCRIPTION:Zeit für individuelle Fragen zur Nachbarschaftshilfe und zum Zusammenleben in Gruna
URL:https://dresden-gruna.de/event/sprechzeit-des-nachbarschaftskreises-2/
LOCATION:Bürger-Treff „Grunaer Aue“ Winterbergstr.31c\, 01277 Dresden\, Winterbergstraße 31c\, Dresden\, 01277\, Deutschland
ORGANIZER;CN="Sigus e.V.":MAILTO:sigus-dd@t-online.de
END:VEVENT
BEGIN:VEVENT
DTSTART;TZID=Europe/Berlin:20230821T140000
DTEND;TZID=Europe/Berlin:20230821T150000
DTSTAMP:20260422T092129
CREATED:20230727T131531Z
LAST-MODIFIED:20230727T131531Z
UID:5573-1692626400-1692630000@dresden-gruna.de
SUMMARY:Sommerliches ErzählCafe
DESCRIPTION:
URL:https://dresden-gruna.de/event/sommerliches-erzaehlcafe/
LOCATION:Bürger-Treff „Grunaer Aue“ Winterbergstr.31c\, 01277 Dresden\, Winterbergstraße 31c\, Dresden\, 01277\, Deutschland
ORGANIZER;CN="Sigus e.V.":MAILTO:sigus-dd@t-online.de
END:VEVENT
BEGIN:VEVENT
DTSTART;TZID=Europe/Berlin:20230821T160000
DTEND;TZID=Europe/Berlin:20230821T180000
DTSTAMP:20260422T092129
CREATED:20230727T140524Z
LAST-MODIFIED:20230727T140524Z
UID:5598-1692633600-1692640800@dresden-gruna.de
SUMMARY:Malraum im Akazienhof
DESCRIPTION:Male\, was in dir ist! Jeweils 1 Stunde intuitives Malen im geschützten Raum unter Leitung . \nBei Interesse bitte unter folgender Telefonnummer 015201969994 oder per Mail Juliane.Franke@gmail.com anmelden. \nBitte beachten neuer Ort:  im Akazienhof
URL:https://dresden-gruna.de/event/malraum-im-akazienhof-2/
LOCATION:Bürger-Treff „Grunaer Aue“ Winterbergstr.31c\, 01277 Dresden\, Winterbergstraße 31c\, Dresden\, 01277\, Deutschland
ATTACH;FMTTYPE=image/jpeg:https://dresden-gruna.de/wp-content/uploads/2023/06/images.jpg
ORGANIZER;CN="'In Gruna leben' e.V.":MAILTO:post@dresden-gruna.de
END:VEVENT
END:VCALENDAR