BEGIN:VCALENDAR
VERSION:2.0
PRODID:-//In Gruna leben e.V. - ECPv6.8.3//NONSGML v1.0//EN
CALSCALE:GREGORIAN
METHOD:PUBLISH
X-ORIGINAL-URL:https://dresden-gruna.de
X-WR-CALDESC:Veranstaltungen für In Gruna leben e.V.
REFRESH-INTERVAL;VALUE=DURATION:PT1H
X-Robots-Tag:noindex
X-PUBLISHED-TTL:PT1H
BEGIN:VTIMEZONE
TZID:Europe/Berlin
BEGIN:DAYLIGHT
TZOFFSETFROM:+0100
TZOFFSETTO:+0200
TZNAME:CEST
DTSTART:20230326T010000
END:DAYLIGHT
BEGIN:STANDARD
TZOFFSETFROM:+0200
TZOFFSETTO:+0100
TZNAME:CET
DTSTART:20231029T010000
END:STANDARD
END:VTIMEZONE
BEGIN:VEVENT
DTSTART;TZID=Europe/Berlin:20230808T100000
DTEND;TZID=Europe/Berlin:20230808T133000
DTSTAMP:20260422T091131
CREATED:20230727T110429Z
LAST-MODIFIED:20230727T110429Z
UID:5548-1691488800-1691501400@dresden-gruna.de
SUMMARY:Pack die Badehose ein ...
DESCRIPTION:Wir gehen gemeinsam ins Georg – Arnhold Freizeitbad \nTreffpunkt Bürgertreff  Winterbergstraße 31 c\, 01277 Dresden \nAnmeldung bitte bei Steffi unter 015227717854 oder Mail. ivsjana@hotmail.de
URL:https://dresden-gruna.de/event/pack-die-badehose-ein/
LOCATION:Bürger-Treff „Grunaer Aue“ Winterbergstr.31c\, 01277 Dresden\, Winterbergstraße 31c\, Dresden\, 01277\, Deutschland
ATTACH;FMTTYPE=image/jpeg:https://dresden-gruna.de/wp-content/uploads/2023/07/georg-arnhold-bad.jpg
ORGANIZER;CN="'In Gruna leben' e.V.":MAILTO:post@dresden-gruna.de
END:VEVENT
BEGIN:VEVENT
DTSTART;TZID=Europe/Berlin:20230808T150000
DTEND;TZID=Europe/Berlin:20230808T180000
DTSTAMP:20260422T091131
CREATED:20230727T124108Z
LAST-MODIFIED:20230727T124108Z
UID:5556-1691506800-1691517600@dresden-gruna.de
SUMMARY:Sprechzeit im Bürgertreff
DESCRIPTION:Sie können persönlich Kontakt zu uns aufnehmen und Anregungen\, Ideen & Wünsche äußern\, Fragen stellen oder Dich über unsere Aktionen und Mitmach-Möglichkeiten informieren. \nSie können aber auch gern einen Termin außerhalb der Sprechzeit  vereinbaren.  Telefon:    0351 26552063   oder  015227717854  vielen Dank
URL:https://dresden-gruna.de/event/sprechzeit-im-buergertreff-49/
LOCATION:Bürger-Treff „Grunaer Aue“ Winterbergstr.31c\, 01277 Dresden\, Winterbergstraße 31c\, Dresden\, 01277\, Deutschland
ORGANIZER;CN="'In Gruna leben' e.V.":MAILTO:post@dresden-gruna.de
END:VEVENT
END:VCALENDAR