BEGIN:VCALENDAR
VERSION:2.0
PRODID:-//In Gruna leben e.V. - ECPv6.8.3//NONSGML v1.0//EN
CALSCALE:GREGORIAN
METHOD:PUBLISH
X-ORIGINAL-URL:https://dresden-gruna.de
X-WR-CALDESC:Veranstaltungen für In Gruna leben e.V.
REFRESH-INTERVAL;VALUE=DURATION:PT1H
X-Robots-Tag:noindex
X-PUBLISHED-TTL:PT1H
BEGIN:VTIMEZONE
TZID:Europe/Berlin
BEGIN:DAYLIGHT
TZOFFSETFROM:+0100
TZOFFSETTO:+0200
TZNAME:CEST
DTSTART:20230326T010000
END:DAYLIGHT
BEGIN:STANDARD
TZOFFSETFROM:+0200
TZOFFSETTO:+0100
TZNAME:CET
DTSTART:20231029T010000
END:STANDARD
END:VTIMEZONE
BEGIN:VEVENT
DTSTART;TZID=Europe/Berlin:20230720T170000
DTEND;TZID=Europe/Berlin:20230720T200000
DTSTAMP:20260422T105537
CREATED:20230629T124741Z
LAST-MODIFIED:20230629T124741Z
UID:5475-1689872400-1689883200@dresden-gruna.de
SUMMARY:RepairCafé Gruna
DESCRIPTION:Achtung anderer Ort  Familienzentrum Pauline\, \nSie möchten die Lebensdauer defekter Geräte verlängern? Dann sind Sie herzlich ins RepairCafé Gruna eingeladen. Als Gast oder Reparaturhelfer können Sie dazu beitragen\, Ressourcen zu schonen und Schrott zu vermeiden. Es können alle beweglichen Gegenstände mitgebracht werden\, die sich transportieren lassen. Ausgeschlossen sind Fahrräder und sperrige Haushaltsgroßgeräte wie Waschmaschinen und Kühlschränke. \nKooperationsprojekt\nDas RepairCafé Gruna ist eine Kooperation des „In Gruna leben e. V.“mit dem Netzwerk RepairCafé Dresden-Freital und dem Familienzentrum Pauline. Weiter Informationen zum Thema RepairCafé finden Sie hier. \nTeilnahme: Bitte vereinbaren Sie einen Reparaturtermin unter Tel: 0151 100 57 433. Wir empfehlen das Tragen einer FFP2-Maske in den Räumlichkeiten. Interessierte Reparaturtalente für den Standort Gruna melden sich bitte unter tanja@dresden-gruna.de oder Tel/ WhatsApp 0176/ 32918719.
URL:https://dresden-gruna.de/event/repaircafe-gruna-4/
LOCATION:Bürger-Treff „Grunaer Aue“ Winterbergstr.31c\, 01277 Dresden\, Winterbergstraße 31c\, Dresden\, 01277\, Deutschland
ORGANIZER;CN="'In Gruna leben' e.V.":MAILTO:post@dresden-gruna.de
END:VEVENT
END:VCALENDAR