BEGIN:VCALENDAR
VERSION:2.0
PRODID:-//In Gruna leben e.V. - ECPv6.8.3//NONSGML v1.0//EN
CALSCALE:GREGORIAN
METHOD:PUBLISH
X-ORIGINAL-URL:https://dresden-gruna.de
X-WR-CALDESC:Veranstaltungen für In Gruna leben e.V.
REFRESH-INTERVAL;VALUE=DURATION:PT1H
X-Robots-Tag:noindex
X-PUBLISHED-TTL:PT1H
BEGIN:VTIMEZONE
TZID:Europe/Berlin
BEGIN:DAYLIGHT
TZOFFSETFROM:+0100
TZOFFSETTO:+0200
TZNAME:CEST
DTSTART:20230326T010000
END:DAYLIGHT
BEGIN:STANDARD
TZOFFSETFROM:+0200
TZOFFSETTO:+0100
TZNAME:CET
DTSTART:20231029T010000
END:STANDARD
END:VTIMEZONE
BEGIN:VEVENT
DTSTART;TZID=Europe/Berlin:20230704T140000
DTEND;TZID=Europe/Berlin:20230704T160000
DTSTAMP:20260422T110611
CREATED:20230615T114211Z
LAST-MODIFIED:20230615T142954Z
UID:5386-1688479200-1688486400@dresden-gruna.de
SUMMARY:Sprechzeit im Bürgertreff
DESCRIPTION:Bitte beachten  die Uhrzeit hat sich nur für den 04.07.23 geändert  \nHaben Sie Fragen oder Anregungen \, können Sie gern in dieser Zeit bei uns vorbeikommen. Benötigen Sie Hilfestellung im Alltag \, beim Einkauf oder mal ein Gespräch wir sind gern für Ihre Anliegen da und haben ein offenes Ohr für Sie. \nSie können aber auch gern einen Termin außerhalb der Sprechzeit  vereinbaren.  Telefon:    0351 26552063   oder  015227717854  vielen Dank
URL:https://dresden-gruna.de/event/sprechzeit-im-buergertreff-40/
LOCATION:Bürger-Treff „Grunaer Aue“ Winterbergstr.31c\, 01277 Dresden\, Winterbergstraße 31c\, Dresden\, 01277\, Deutschland
ORGANIZER;CN="'In Gruna leben' e.V.":MAILTO:post@dresden-gruna.de
END:VEVENT
BEGIN:VEVENT
DTSTART;TZID=Europe/Berlin:20230704T170000
DTEND;TZID=Europe/Berlin:20230704T193000
DTSTAMP:20260422T110611
CREATED:20230629T123107Z
LAST-MODIFIED:20230630T123633Z
UID:5465-1688490000-1688499000@dresden-gruna.de
SUMMARY:Wir grillen im Akazienhof
DESCRIPTION:Herzliche Einladung zum gemeinsamen grillen. \nBitte beachten das grillen findet im Akazienhof statt. \nWir bitten um einen kleinen Beitrag von 3\,50€\, vielen Dank.
URL:https://dresden-gruna.de/event/wir-grillen-im-akazienhof/
LOCATION:Villa Akazienhof\, Schneebergstraße 16\, Schneebergstr. 16\, Dresden\, Sachsen\, 01277\, Deutschland
ATTACH;FMTTYPE=image/jpeg:https://dresden-gruna.de/wp-content/uploads/2023/03/20220713_202557-scaled.jpg
ORGANIZER;CN="'In Gruna leben' e.V.":MAILTO:post@dresden-gruna.de
END:VEVENT
BEGIN:VEVENT
DTSTART;TZID=Europe/Berlin:20230704T180000
DTEND;TZID=Europe/Berlin:20230704T193000
DTSTAMP:20260422T110611
CREATED:20230615T115625Z
LAST-MODIFIED:20230622T101211Z
UID:5393-1688493600-1688499000@dresden-gruna.de
SUMMARY:IGL – Plenum Nachbarn willkommen im Bürgertreff
DESCRIPTION:Bitte beachten dieses Plenum findet im Akazienhof statt. \nIhrer Anregungen\, Ideen und Fragen sind uns wichtig. Kommen Sie gern mit uns ins Gespräch.
URL:https://dresden-gruna.de/event/igl-plenum-nachbarn-willkommen-im-buergertreff-10/
LOCATION:Bürger-Treff „Grunaer Aue“ Winterbergstr.31c\, 01277 Dresden\, Winterbergstraße 31c\, Dresden\, 01277\, Deutschland
ATTACH;FMTTYPE=image/jpeg:https://dresden-gruna.de/wp-content/uploads/2023/02/junge-leute-stehen-und-reden-miteinander-sprachblase-smartphone-flache-vektorillustration-des-maedchens-kommunikation-und-diskussion_74855-8741.jpg
ORGANIZER;CN="'In Gruna leben' e.V.":MAILTO:post@dresden-gruna.de
END:VEVENT
END:VCALENDAR