BEGIN:VCALENDAR
VERSION:2.0
PRODID:-//In Gruna leben e.V. - ECPv6.8.3//NONSGML v1.0//EN
CALSCALE:GREGORIAN
METHOD:PUBLISH
X-ORIGINAL-URL:https://dresden-gruna.de
X-WR-CALDESC:Veranstaltungen für In Gruna leben e.V.
REFRESH-INTERVAL;VALUE=DURATION:PT1H
X-Robots-Tag:noindex
X-PUBLISHED-TTL:PT1H
BEGIN:VTIMEZONE
TZID:Europe/Berlin
BEGIN:DAYLIGHT
TZOFFSETFROM:+0100
TZOFFSETTO:+0200
TZNAME:CEST
DTSTART:20230326T010000
END:DAYLIGHT
BEGIN:STANDARD
TZOFFSETFROM:+0200
TZOFFSETTO:+0100
TZNAME:CET
DTSTART:20231029T010000
END:STANDARD
END:VTIMEZONE
BEGIN:VEVENT
DTSTART;TZID=Europe/Berlin:20230701T150000
DTEND;TZID=Europe/Berlin:20230701T173000
DTSTAMP:20260422T105538
CREATED:20230615T115344Z
LAST-MODIFIED:20230615T115344Z
UID:5390-1688223600-1688232600@dresden-gruna.de
SUMMARY:Zuckertütenfest im Akazienhof
DESCRIPTION:Wir laden alle ehemaligen Erzieher \, Personal und Kinder zu einem Treffen der Erinnerungen ein. \nTauchen Sie ein in die Vergangenheit und sehen Sie was heute aus dem Kindergarten gemacht wird. \nAm 01.07.23 ab 15:00Uhr im heutigen Akazienhof Schneebergstraße 16 ehemals Rosenbergstraße 32
URL:https://dresden-gruna.de/event/zuckertuetenfest-im-akazienhof/
LOCATION:Bürger-Treff „Grunaer Aue“ Winterbergstr.31c\, 01277 Dresden\, Winterbergstraße 31c\, Dresden\, 01277\, Deutschland
ATTACH;FMTTYPE=image/jpeg:https://dresden-gruna.de/wp-content/uploads/2023/06/tschuess-kindergarten-hallo-schule-schulanfang-sticker.jpg
ORGANIZER;CN="'In Gruna leben' e.V.":MAILTO:post@dresden-gruna.de
END:VEVENT
END:VCALENDAR