BEGIN:VCALENDAR
VERSION:2.0
PRODID:-//In Gruna leben e.V. - ECPv6.8.3//NONSGML v1.0//EN
CALSCALE:GREGORIAN
METHOD:PUBLISH
X-ORIGINAL-URL:https://dresden-gruna.de
X-WR-CALDESC:Veranstaltungen für In Gruna leben e.V.
REFRESH-INTERVAL;VALUE=DURATION:PT1H
X-Robots-Tag:noindex
X-PUBLISHED-TTL:PT1H
BEGIN:VTIMEZONE
TZID:Europe/Berlin
BEGIN:DAYLIGHT
TZOFFSETFROM:+0100
TZOFFSETTO:+0200
TZNAME:CEST
DTSTART:20230326T010000
END:DAYLIGHT
BEGIN:STANDARD
TZOFFSETFROM:+0200
TZOFFSETTO:+0100
TZNAME:CET
DTSTART:20231029T010000
END:STANDARD
END:VTIMEZONE
BEGIN:VEVENT
DTSTART;TZID=Europe/Berlin:20230511T100000
DTEND;TZID=Europe/Berlin:20230511T120000
DTSTAMP:20260422T141436
CREATED:20230421T102944Z
LAST-MODIFIED:20230421T102944Z
UID:5144-1683799200-1683806400@dresden-gruna.de
SUMMARY:Treffen der Stadtteilrunde
DESCRIPTION:ACHTUNG ANDERER ORT: \nASB – Begegnungszentrum Wiesenhäuser\, Wiesenstraße 17 \nDie Grunaer Stadtteilrunde will Nachbarschaftshilfen besser koordinieren\, und Du darfst mitmachen!
URL:https://dresden-gruna.de/event/treffen-der-stadtteilrunde-2/
LOCATION:Bürger-Treff „Grunaer Aue“ Winterbergstr.31c\, 01277 Dresden\, Winterbergstraße 31c\, Dresden\, 01277\, Deutschland
ORGANIZER;CN="'In Gruna leben' e.V.":MAILTO:post@dresden-gruna.de
END:VEVENT
END:VCALENDAR