BEGIN:VCALENDAR
VERSION:2.0
PRODID:-//In Gruna leben e.V. - ECPv6.8.3//NONSGML v1.0//EN
CALSCALE:GREGORIAN
METHOD:PUBLISH
X-ORIGINAL-URL:https://dresden-gruna.de
X-WR-CALDESC:Veranstaltungen für In Gruna leben e.V.
REFRESH-INTERVAL;VALUE=DURATION:PT1H
X-Robots-Tag:noindex
X-PUBLISHED-TTL:PT1H
BEGIN:VTIMEZONE
TZID:Europe/Berlin
BEGIN:DAYLIGHT
TZOFFSETFROM:+0100
TZOFFSETTO:+0200
TZNAME:CEST
DTSTART:20230326T010000
END:DAYLIGHT
BEGIN:STANDARD
TZOFFSETFROM:+0200
TZOFFSETTO:+0100
TZNAME:CET
DTSTART:20231029T010000
END:STANDARD
END:VTIMEZONE
BEGIN:VEVENT
DTSTART;TZID=Europe/Berlin:20230420T123000
DTEND;TZID=Europe/Berlin:20230420T133000
DTSTAMP:20260422T155754
CREATED:20230411T045632Z
LAST-MODIFIED:20230411T045632Z
UID:5096-1681993800-1681997400@dresden-gruna.de
SUMMARY:Babymassage - Kursstart
DESCRIPTION:Entspannen – Beruhigen – Vertrauen stärken \nBitte melde dich vorher an. Danke! \nEine Babymassage ist liebevolle Kontaktaufnahme zum Kind. Sie regt alle Sinne an und unterstützt die geistige\, körperliche und motorische Entwicklung Ihres Kindes. Die behutsam und respektvoll ausgeführten Handgriffe sind leicht zu erlernen und werden den Bedürfnissen jedes Babys angepasst.\nDas optimale Alter der Babys (auch Frühgeborene oder Babys mit besonderen Bedürfnissen) liegt zwischen 4 Wochen und dem Krabbelalter.\nEin Babymassagekurs umfasst 4 Einheiten und dauert etwa 50 bis 60 Min.   Ein Kurseinstieg ist jederzeit möglich! \nAblauf:\nStunde 1: Beine\nStunde 2: Bauch\nStunde 3: Brust und Arme\nStunde 4: Gesicht und Rücken \nJede Stunde wird das aus der vorherigen Stunde wiederholt oder auch auf Wunsch etwas anderes\, je nachdem was die Kinder auch mögen. \nDieser Kurs findet in Kooperation von „Mamutra“ mit den Eltern-Kind-Büros statt. Er ist kostenfrei\, es wird um einen Solibeitrag gebeten.
URL:https://dresden-gruna.de/event/babymassage-kursstart-2/
LOCATION:Eltern-Kind-Büro\, Rosenbergstr. 10\, Dresden\, 01277\, Deutschland
CATEGORIES:Treffen und Kurse
ATTACH;FMTTYPE=image/png:https://dresden-gruna.de/wp-content/uploads/2023/04/EKB_FB-WP-3.png
ORGANIZER;CN="Mamutra":MAILTO:info@mamutra.de
END:VEVENT
BEGIN:VEVENT
DTSTART;TZID=Europe/Berlin:20230420T150000
DTEND;TZID=Europe/Berlin:20230420T180000
DTSTAMP:20260422T155754
CREATED:20230328T145653Z
LAST-MODIFIED:20230328T145653Z
UID:5035-1682002800-1682013600@dresden-gruna.de
SUMMARY:Malraum im Bürgertreff Grunaer Aue
DESCRIPTION:Male\, was in dir ist! Jeweils 1 Stunde intuitives Malen im geschützten Raum unter Leitung . \nBei Interesse bitte unter folgender Telefonnummer 015201969994 oder per Mail Juliane.Franke@gmail.com anmelden.
URL:https://dresden-gruna.de/event/malraum-im-buergertreff-grunaer-aue-12/
LOCATION:Bürger-Treff „Grunaer Aue“ Winterbergstr.31c\, 01277 Dresden\, Winterbergstraße 31c\, Dresden\, 01277\, Deutschland
ATTACH;FMTTYPE=image/jpeg:https://dresden-gruna.de/wp-content/uploads/2023/01/images.jpg
ORGANIZER;CN="'In Gruna leben' e.V.":MAILTO:post@dresden-gruna.de
END:VEVENT
BEGIN:VEVENT
DTSTART;TZID=Europe/Berlin:20230420T160000
DTEND;TZID=Europe/Berlin:20230420T200000
DTSTAMP:20260422T155754
CREATED:20230320T112654Z
LAST-MODIFIED:20230320T112654Z
UID:4997-1682006400-1682020800@dresden-gruna.de
SUMMARY:RepairCafé Gruna
DESCRIPTION:Sie möchten die Lebensdauer defekter Geräte verlängern? Dann sind Sie herzlich ins RepairCafé Gruna eingeladen. Als Gast oder Reparaturhelfer können Sie dazu beitragen\, Ressourcen zu schonen und Schrott zu vermeiden. Es können alle beweglichen Gegenstände mitgebracht werden\, die sich transportieren lassen. Ausgeschlossen sind Fahrräder und sperrige Haushaltsgroßgeräte wie Waschmaschinen und Kühlschränke. \nKooperationsprojekt\nDas RepairCafé Gruna ist eine Kooperation des „In Gruna leben e. V.“mit dem Netzwerk RepairCafé Dresden-Freital und dem Familienzentrum Pauline. Weiter Informationen zum Thema RepairCafé finden Sie hier. \nTeilnahme: Bitte vereinbaren Sie einen Reparaturtermin unter Tel: 0151 100 57 433. Wir empfehlen das Tragen einer FFP2-Maske in den Räumlichkeiten. Interessierte Reparaturtalente für den Standort Gruna melden sich bitte unter tanja@dresden-gruna.de oder Tel/ WhatsApp 0176/ 32918719. \n 
URL:https://dresden-gruna.de/event/repaircafe-gruna-3/
LOCATION:Familienzentrum Pauline\, Papstdorfer Straße 41\, Dresden\, 01277\, Deutschland
ORGANIZER;CN="RepairCaf%C3%A9 Dresden-Freital":MAILTO:repaircafe@fueralle.org
END:VEVENT
END:VCALENDAR