BEGIN:VCALENDAR
VERSION:2.0
PRODID:-//In Gruna leben e.V. - ECPv6.8.3//NONSGML v1.0//EN
CALSCALE:GREGORIAN
METHOD:PUBLISH
X-ORIGINAL-URL:https://dresden-gruna.de
X-WR-CALDESC:Veranstaltungen für In Gruna leben e.V.
REFRESH-INTERVAL;VALUE=DURATION:PT1H
X-Robots-Tag:noindex
X-PUBLISHED-TTL:PT1H
BEGIN:VTIMEZONE
TZID:Europe/Berlin
BEGIN:DAYLIGHT
TZOFFSETFROM:+0100
TZOFFSETTO:+0200
TZNAME:CEST
DTSTART:20230326T010000
END:DAYLIGHT
BEGIN:STANDARD
TZOFFSETFROM:+0200
TZOFFSETTO:+0100
TZNAME:CET
DTSTART:20231029T010000
END:STANDARD
END:VTIMEZONE
BEGIN:VEVENT
DTSTART;TZID=Europe/Berlin:20230415T110000
DTEND;TZID=Europe/Berlin:20230415T143000
DTSTAMP:20260422T155856
CREATED:20230320T111938Z
LAST-MODIFIED:20230320T111938Z
UID:4995-1681556400-1681569000@dresden-gruna.de
SUMMARY:Gruna kocht!
DESCRIPTION:Was koche ich am Wochenende?\nEs sind alle herzlich eingeladen\, die sich in der Grunaer Nachbarschaft engagieren möchten\, bzw. gerne kochen und in geselliger Runde speisen möchten. Es gibt viele Rezeptideen die man gern ausprobieren kann. \nBitte melde dich bis zum 15.03.23 verbindlich an. Anmeldungen bitte direkt an die Mailadresse senden: tanja@dresden-gruna.de
URL:https://dresden-gruna.de/event/gruna-kocht-5/
LOCATION:Bürger-Treff „Grunaer Aue“ Winterbergstr.31c\, 01277 Dresden\, Winterbergstraße 31c\, Dresden\, 01277\, Deutschland
ATTACH;FMTTYPE=image/jpeg:https://dresden-gruna.de/wp-content/uploads/2023/01/kochen.jpg
ORGANIZER;CN="'In Gruna leben' e.V.":MAILTO:post@dresden-gruna.de
END:VEVENT
END:VCALENDAR