BEGIN:VCALENDAR
VERSION:2.0
PRODID:-//In Gruna leben e.V. - ECPv6.8.3//NONSGML v1.0//EN
CALSCALE:GREGORIAN
METHOD:PUBLISH
X-ORIGINAL-URL:https://dresden-gruna.de
X-WR-CALDESC:Veranstaltungen für In Gruna leben e.V.
REFRESH-INTERVAL;VALUE=DURATION:PT1H
X-Robots-Tag:noindex
X-PUBLISHED-TTL:PT1H
BEGIN:VTIMEZONE
TZID:Europe/Berlin
BEGIN:DAYLIGHT
TZOFFSETFROM:+0100
TZOFFSETTO:+0200
TZNAME:CEST
DTSTART:20230326T010000
END:DAYLIGHT
BEGIN:STANDARD
TZOFFSETFROM:+0200
TZOFFSETTO:+0100
TZNAME:CET
DTSTART:20231029T010000
END:STANDARD
END:VTIMEZONE
BEGIN:VEVENT
DTSTART;TZID=Europe/Berlin:20230328T100000
DTEND;TZID=Europe/Berlin:20230328T123000
DTSTAMP:20260422T155904
CREATED:20230221T151605Z
LAST-MODIFIED:20230221T151605Z
UID:4949-1679997600-1680006600@dresden-gruna.de
SUMMARY:Grunaer Frauenfrühstück
DESCRIPTION:Frauen mal unter sich. \nWir werden gemeinsam frühstücken und uns auf Ostern einstimmen. \nIdeen und Vorschläge könnt Ihr gern bis 21.03.23 bei Steffi einreichen Telefonnummer 015227717854.  Vielen Dank.
URL:https://dresden-gruna.de/event/grunaer-frauenfruehstueck-4/
LOCATION:Bürger-Treff „Grunaer Aue“ Winterbergstr.31c\, 01277 Dresden\, Winterbergstraße 31c\, Dresden\, 01277\, Deutschland
ATTACH;FMTTYPE=image/jpeg:https://dresden-gruna.de/wp-content/uploads/2023/01/frauen.jpg
ORGANIZER;CN="'In Gruna leben' e.V.":MAILTO:post@dresden-gruna.de
END:VEVENT
END:VCALENDAR