BEGIN:VCALENDAR
VERSION:2.0
PRODID:-//In Gruna leben e.V. - ECPv6.8.3//NONSGML v1.0//EN
CALSCALE:GREGORIAN
METHOD:PUBLISH
X-ORIGINAL-URL:https://dresden-gruna.de
X-WR-CALDESC:Veranstaltungen für In Gruna leben e.V.
REFRESH-INTERVAL;VALUE=DURATION:PT1H
X-Robots-Tag:noindex
X-PUBLISHED-TTL:PT1H
BEGIN:VTIMEZONE
TZID:Europe/Berlin
BEGIN:DAYLIGHT
TZOFFSETFROM:+0100
TZOFFSETTO:+0200
TZNAME:CEST
DTSTART:20230326T010000
END:DAYLIGHT
BEGIN:STANDARD
TZOFFSETFROM:+0200
TZOFFSETTO:+0100
TZNAME:CET
DTSTART:20231029T010000
END:STANDARD
END:VTIMEZONE
BEGIN:VEVENT
DTSTART;TZID=Europe/Berlin:20230320T150000
DTEND;TZID=Europe/Berlin:20230320T163000
DTSTAMP:20260422T174307
CREATED:20230221T141511Z
LAST-MODIFIED:20230221T141535Z
UID:4931-1679324400-1679329800@dresden-gruna.de
SUMMARY:ErzählCafe
DESCRIPTION:Das ErzählCafe des Nachbarschaftskreises öffnet seine Türen. \nWünsche an eine friedfertige und würdevolle Pflege; als Gast stellt Frau Ullrich von der Ökumenischen Seniorenhilfe die neue Tagespflege vor. \n 
URL:https://dresden-gruna.de/event/erzaehlcafe-3/
LOCATION:Bürger-Treff „Grunaer Aue“ Winterbergstr.31c\, 01277 Dresden\, Winterbergstraße 31c\, Dresden\, 01277\, Deutschland
ORGANIZER;CN="Sigus e.V.":MAILTO:sigus-dd@t-online.de
END:VEVENT
END:VCALENDAR