BEGIN:VCALENDAR
VERSION:2.0
PRODID:-//In Gruna leben e.V. - ECPv6.8.3//NONSGML v1.0//EN
CALSCALE:GREGORIAN
METHOD:PUBLISH
X-ORIGINAL-URL:https://dresden-gruna.de
X-WR-CALDESC:Veranstaltungen für In Gruna leben e.V.
REFRESH-INTERVAL;VALUE=DURATION:PT1H
X-Robots-Tag:noindex
X-PUBLISHED-TTL:PT1H
BEGIN:VTIMEZONE
TZID:Europe/Berlin
BEGIN:DAYLIGHT
TZOFFSETFROM:+0100
TZOFFSETTO:+0200
TZNAME:CEST
DTSTART:20230326T010000
END:DAYLIGHT
BEGIN:STANDARD
TZOFFSETFROM:+0200
TZOFFSETTO:+0100
TZNAME:CET
DTSTART:20231029T010000
END:STANDARD
END:VTIMEZONE
BEGIN:VEVENT
DTSTART;TZID=Europe/Berlin:20230313T100000
DTEND;TZID=Europe/Berlin:20230313T120000
DTSTAMP:20260422T174345
CREATED:20230215T112550Z
LAST-MODIFIED:20230215T112550Z
UID:4899-1678701600-1678708800@dresden-gruna.de
SUMMARY:Sprechzeit im Bürgertreff
DESCRIPTION:Haben Sie Fragen oder Anregungen \, können Sie gern in dieser Zeit bei uns vorbeikommen. Benötigen Sie Hilfestellung im Alltag \, beim Einkauf oder mal ein Gespräch wir sind gern für Ihre Anliegen da und haben ein offenes Ohr für Sie. \nSie können aber auch gern einen Termin außerhalb der Sprechzeit  vereinbaren.  Telefon:    0351 2632138   oder  015227717854  vielen Dank.
URL:https://dresden-gruna.de/event/sprechzeit-im-buergertreff-18/
LOCATION:Bürger-Treff „Grunaer Aue“ Winterbergstr.31c\, 01277 Dresden\, Winterbergstraße 31c\, Dresden\, 01277\, Deutschland
ORGANIZER;CN="'In Gruna leben' e.V.":MAILTO:post@dresden-gruna.de
END:VEVENT
BEGIN:VEVENT
DTSTART;TZID=Europe/Berlin:20230313T100000
DTEND;TZID=Europe/Berlin:20230313T120000
DTSTAMP:20260422T174345
CREATED:20230215T112802Z
LAST-MODIFIED:20230215T112802Z
UID:4901-1678701600-1678708800@dresden-gruna.de
SUMMARY:DigitalCafe\, die Sprechstunde zu Smartphone & Co.
DESCRIPTION:Das DigitalCafé findet als Sprechstunde ausgebildeter Technikbotschafter zu Fragen im Umgang mit Smartphone & Co.\nimmer am 2. Montag in der Zeit zwischen 10 und 12 Uhr im Bürgertreff „Grunaer Aue“\,\nWinterbergstr. 31c\, 10277 Dresden statt. \nWeitere Informationen  auf der WEB-Seite DigitalCafe!
URL:https://dresden-gruna.de/event/digitalcafe-die-sprechstunde-zu-smartphone-co-2/
LOCATION:Bürger-Treff „Grunaer Aue“ Winterbergstr.31c\, 01277 Dresden\, Winterbergstraße 31c\, Dresden\, 01277\, Deutschland
ATTACH;FMTTYPE=image/jpeg:https://dresden-gruna.de/wp-content/uploads/2022/12/images.jpg
ORGANIZER;CN="'In Gruna leben' e.V.":MAILTO:post@dresden-gruna.de
END:VEVENT
BEGIN:VEVENT
DTSTART;TZID=Europe/Berlin:20230313T150000
DTEND;TZID=Europe/Berlin:20230313T163000
DTSTAMP:20260422T174345
CREATED:20230221T135410Z
LAST-MODIFIED:20230221T135410Z
UID:4927-1678719600-1678725000@dresden-gruna.de
SUMMARY:Müllex lässt lesen –Die literarische Telefonzelle
DESCRIPTION:Diesmal: Dünne Haut. Tagebücher von Frauen;  Mitteldeutscher Verlag Halle/Leipzig 1987 \nANMELDUNG ZUM ERHALT DER ZUGANGSDATEN UNTER : 0351 26 321 38  ODER sigus-dd@t-online.de
URL:https://dresden-gruna.de/event/muellex-laesst-lesen-die-literarische-telefonzelle/
LOCATION:Bürger-Treff „Grunaer Aue“ Winterbergstr.31c\, 01277 Dresden\, Winterbergstraße 31c\, Dresden\, 01277\, Deutschland
ATTACH;FMTTYPE=image/png:https://dresden-gruna.de/wp-content/uploads/2023/01/telefon.png
ORGANIZER;CN="Sigus e.V.":MAILTO:sigus-dd@t-online.de
END:VEVENT
END:VCALENDAR