BEGIN:VCALENDAR
VERSION:2.0
PRODID:-//In Gruna leben e.V. - ECPv6.8.3//NONSGML v1.0//EN
CALSCALE:GREGORIAN
METHOD:PUBLISH
X-ORIGINAL-URL:https://dresden-gruna.de
X-WR-CALDESC:Veranstaltungen für In Gruna leben e.V.
REFRESH-INTERVAL;VALUE=DURATION:PT1H
X-Robots-Tag:noindex
X-PUBLISHED-TTL:PT1H
BEGIN:VTIMEZONE
TZID:Europe/Berlin
BEGIN:DAYLIGHT
TZOFFSETFROM:+0100
TZOFFSETTO:+0200
TZNAME:CEST
DTSTART:20230326T010000
END:DAYLIGHT
BEGIN:STANDARD
TZOFFSETFROM:+0200
TZOFFSETTO:+0100
TZNAME:CET
DTSTART:20231029T010000
END:STANDARD
END:VTIMEZONE
BEGIN:VEVENT
DTSTART;TZID=Europe/Berlin:20230119T160000
DTEND;TZID=Europe/Berlin:20230119T180000
DTSTAMP:20260422T205610
CREATED:20230116T110957Z
LAST-MODIFIED:20230116T110957Z
UID:4699-1674144000-1674151200@dresden-gruna.de
SUMMARY:Malraum im Bürgertreff Grunaer Aue
DESCRIPTION:Male\, was in dir ist! Jeweils 1 Stunde intuitives Malen im geschützten Raum unter Leitung . \nBitte beachten\, ab den 19.01.23 findet diese Veranstaltung im \nBürgertreff „Grunaer Aue“ Winterbergstraße 31c statt.    \njeweils eine Stunde\, von 16°° – 17°° Uhr und von 17°° – 18°° Uhr.
URL:https://dresden-gruna.de/event/malraum-im-buergertreff-grunaer-aue/
LOCATION:Bürger-Treff „Grunaer Aue“ Winterbergstr.31c\, 01277 Dresden\, Winterbergstraße 31c\, Dresden\, 01277\, Deutschland
ORGANIZER;CN="'In Gruna leben' e.V.":MAILTO:post@dresden-gruna.de
END:VEVENT
BEGIN:VEVENT
DTSTART;TZID=Europe/Berlin:20230119T170000
DTEND;TZID=Europe/Berlin:20230119T200000
DTSTAMP:20260422T205610
CREATED:20230107T141236Z
LAST-MODIFIED:20230107T141816Z
UID:4668-1674147600-1674158400@dresden-gruna.de
SUMMARY:RepairCafé Gruna
DESCRIPTION:Sie möchten die Lebensdauer defekter Geräte verlängern? Dann sind Sie herzlich ins RepairCafé Gruna eingeladen. Als Gast oder Reparaturhelfer können Sie dazu beitragen\, Ressourcen zu schonen und Schrott zu vermeiden. Es können alle beweglichen Gegenstände mitgebracht werden\, die sich transportieren lassen. Ausgeschlossen sind Fahrräder und sperrige Haushaltsgroßgeräte wie Waschmaschinen und Kühlschränke. \nKooperationsprojekt\nDas RepairCafé Gruna ist eine Kooperation des „In Gruna leben e. V.“mit dem Netzwerk RepairCafé Dresden-Freital und dem Familienzentrum Pauline. Weiter Informationen zum Thema RepairCafé finden Sie hier. \nReparaturtalente willkommen\nDas RepairCafé Gruna ist eine ehrenamtliche Initiative. Ziel ist es\, durch Reparaturen Ressourcen zu schonen und den Zusammenhalt in der Nachbarschaft zu stärken. Daher freuen wir uns insbesondere über tatkräftige Unterstützung aus Gruna. \nTeilnahme: Bitte vereinbaren Sie einen Reparaturtermin unter Tel: 0151 100 57 433. Wir empfehlen das Tragen einer FFP2-Maske in den Räumlichkeiten. Interessierte Reparaturtalente für den Standort Gruna melden sich bitte unter tanja@dresden-gruna.de oder Tel/ WhatsApp 0176/ 32918719.
URL:https://dresden-gruna.de/event/repaircafe-5/
LOCATION:Familienzentrum Pauline\, Papstdorfer Straße 41\, Dresden\, 01277\, Deutschland
CATEGORIES:RepairCafé
ATTACH;FMTTYPE=image/png:https://dresden-gruna.de/wp-content/uploads/2020/07/RepairCafe-2020-helfer-gesucht.png
END:VEVENT
END:VCALENDAR