BEGIN:VCALENDAR
VERSION:2.0
PRODID:-//In Gruna leben e.V. - ECPv6.8.3//NONSGML v1.0//EN
CALSCALE:GREGORIAN
METHOD:PUBLISH
X-ORIGINAL-URL:https://dresden-gruna.de
X-WR-CALDESC:Veranstaltungen für In Gruna leben e.V.
REFRESH-INTERVAL;VALUE=DURATION:PT1H
X-Robots-Tag:noindex
X-PUBLISHED-TTL:PT1H
BEGIN:VTIMEZONE
TZID:Europe/Berlin
BEGIN:DAYLIGHT
TZOFFSETFROM:+0100
TZOFFSETTO:+0200
TZNAME:CEST
DTSTART:20230326T010000
END:DAYLIGHT
BEGIN:STANDARD
TZOFFSETFROM:+0200
TZOFFSETTO:+0100
TZNAME:CET
DTSTART:20231029T010000
END:STANDARD
END:VTIMEZONE
BEGIN:VEVENT
DTSTART;TZID=Europe/Berlin:20230114T150000
DTEND;TZID=Europe/Berlin:20230114T180000
DTSTAMP:20260422T205543
CREATED:20221218T120744Z
LAST-MODIFIED:20221218T120744Z
UID:4576-1673708400-1673719200@dresden-gruna.de
SUMMARY:Spielenachmittag
DESCRIPTION:MÜHLE\, DAME\, HALMA\, SCHACH\, das wäre doch gelacht\, oder auch ein Kartenspiel wie z.B. Skat oder Mau Mau haben wir doch alle schon gemacht….. \nDas gemeinsame Spiel bietet allen Raum für anregende Gespräche\, Abwechslung und viel Spaß\, ein kleiner Imbiss wird gern vorbereitet. \n 
URL:https://dresden-gruna.de/event/spielenachmittag/
LOCATION:Bürger-Treff „Grunaer Aue“ Winterbergstr.31c\, 01277 Dresden\, Winterbergstraße 31c\, Dresden\, 01277\, Deutschland
ORGANIZER;CN="'In Gruna leben' e.V.":MAILTO:post@dresden-gruna.de
END:VEVENT
END:VCALENDAR