BEGIN:VCALENDAR
VERSION:2.0
PRODID:-//In Gruna leben e.V. - ECPv6.8.3//NONSGML v1.0//EN
CALSCALE:GREGORIAN
METHOD:PUBLISH
X-ORIGINAL-URL:https://dresden-gruna.de
X-WR-CALDESC:Veranstaltungen für In Gruna leben e.V.
REFRESH-INTERVAL;VALUE=DURATION:PT1H
X-Robots-Tag:noindex
X-PUBLISHED-TTL:PT1H
BEGIN:VTIMEZONE
TZID:Europe/Berlin
BEGIN:DAYLIGHT
TZOFFSETFROM:+0100
TZOFFSETTO:+0200
TZNAME:CEST
DTSTART:20230326T010000
END:DAYLIGHT
BEGIN:STANDARD
TZOFFSETFROM:+0200
TZOFFSETTO:+0100
TZNAME:CET
DTSTART:20231029T010000
END:STANDARD
END:VTIMEZONE
BEGIN:VEVENT
DTSTART;TZID=Europe/Berlin:20230113T100000
DTEND;TZID=Europe/Berlin:20230113T100000
DTSTAMP:20260422T205656
CREATED:20221218T133438Z
LAST-MODIFIED:20221218T133438Z
UID:4598-1673604000-1673604000@dresden-gruna.de
SUMMARY:Wander-Schreib-Gruppe Gruna
DESCRIPTION:Nebenan unterwegs mit der Wander-Schreib-Gruppe Gruna\, diesmal durch Seidnitz (Anmeldung empfohlen). \nWir freuen uns auf eine schöne Wanderung mit Euch.
URL:https://dresden-gruna.de/event/wander-schreib-gruppe-gruna/
LOCATION:Bürger-Treff „Grunaer Aue“ Winterbergstr.31c\, 01277 Dresden\, Winterbergstraße 31c\, Dresden\, 01277\, Deutschland
ORGANIZER;CN="Sigus e.V.":MAILTO:sigus-dd@t-online.de
END:VEVENT
END:VCALENDAR