BEGIN:VCALENDAR
VERSION:2.0
PRODID:-//In Gruna leben e.V. - ECPv6.8.3//NONSGML v1.0//EN
CALSCALE:GREGORIAN
METHOD:PUBLISH
X-ORIGINAL-URL:https://dresden-gruna.de
X-WR-CALDESC:Veranstaltungen für In Gruna leben e.V.
REFRESH-INTERVAL;VALUE=DURATION:PT1H
X-Robots-Tag:noindex
X-PUBLISHED-TTL:PT1H
BEGIN:VTIMEZONE
TZID:Europe/Berlin
BEGIN:DAYLIGHT
TZOFFSETFROM:+0100
TZOFFSETTO:+0200
TZNAME:CEST
DTSTART:20230326T010000
END:DAYLIGHT
BEGIN:STANDARD
TZOFFSETFROM:+0200
TZOFFSETTO:+0100
TZNAME:CET
DTSTART:20231029T010000
END:STANDARD
END:VTIMEZONE
BEGIN:VEVENT
DTSTART;TZID=Europe/Berlin:20230111T100000
DTEND;TZID=Europe/Berlin:20230111T113000
DTSTAMP:20260422T205610
CREATED:20221218T100216Z
LAST-MODIFIED:20221218T100216Z
UID:4539-1673431200-1673436600@dresden-gruna.de
SUMMARY:Biografie-und Schreibkreis
DESCRIPTION:Wir erzählen\, schreiben und lesen Geschichten aus unserem Leben – \nAnmeldung erforderlich unter 0351 2632138
URL:https://dresden-gruna.de/event/biografie-und-schreibkreis/
LOCATION:Bürger-Treff „Grunaer Aue“ Winterbergstr.31c\, 01277 Dresden\, Winterbergstraße 31c\, Dresden\, 01277\, Deutschland
ORGANIZER;CN="Sigus e.V.":MAILTO:sigus-dd@t-online.de
END:VEVENT
BEGIN:VEVENT
DTSTART;TZID=Europe/Berlin:20230111T140000
DTEND;TZID=Europe/Berlin:20230111T153000
DTSTAMP:20260422T205610
CREATED:20221218T100828Z
LAST-MODIFIED:20221218T100828Z
UID:4543-1673445600-1673451000@dresden-gruna.de
SUMMARY:Gesprächsrunde am Runden Tisch
DESCRIPTION:Wärme statt Wut. \nWie wir miteinander in Dresden umgehen; Gesprächsrunde am Runden Tisch der Senioren\, Vorruheständler und Behinderten in Dresden (RT)
URL:https://dresden-gruna.de/event/gespraechsrunde-am-runden-tisch/
LOCATION:Bürger-Treff „Grunaer Aue“ Winterbergstr.31c\, 01277 Dresden\, Winterbergstraße 31c\, Dresden\, 01277\, Deutschland
ORGANIZER;CN="Sigus e.V.":MAILTO:sigus-dd@t-online.de
END:VEVENT
END:VCALENDAR