BEGIN:VCALENDAR
VERSION:2.0
PRODID:-//In Gruna leben e.V. - ECPv6.8.3//NONSGML v1.0//EN
CALSCALE:GREGORIAN
METHOD:PUBLISH
X-ORIGINAL-URL:https://dresden-gruna.de
X-WR-CALDESC:Veranstaltungen für In Gruna leben e.V.
REFRESH-INTERVAL;VALUE=DURATION:PT1H
X-Robots-Tag:noindex
X-PUBLISHED-TTL:PT1H
BEGIN:VTIMEZONE
TZID:Europe/Berlin
BEGIN:DAYLIGHT
TZOFFSETFROM:+0100
TZOFFSETTO:+0200
TZNAME:CEST
DTSTART:20230326T010000
END:DAYLIGHT
BEGIN:STANDARD
TZOFFSETFROM:+0200
TZOFFSETTO:+0100
TZNAME:CET
DTSTART:20231029T010000
END:STANDARD
END:VTIMEZONE
BEGIN:VEVENT
DTSTART;TZID=Europe/Berlin:20230109T100000
DTEND;TZID=Europe/Berlin:20230109T120000
DTSTAMP:20260422T205656
CREATED:20221218T132654Z
LAST-MODIFIED:20221218T132654Z
UID:4596-1673258400-1673265600@dresden-gruna.de
SUMMARY:Grunaer DigitalCafé
DESCRIPTION:Unsere Technikbotschafter bieten Ihnen gern Hilfen im Umgang mit Smartphone & Co.an\, Sie werden gemeinsam nach Lösungen suchen und finden.
URL:https://dresden-gruna.de/event/grunaer-digitalcafe/
LOCATION:Bürger-Treff „Grunaer Aue“ Winterbergstr.31c\, 01277 Dresden\, Winterbergstraße 31c\, Dresden\, 01277\, Deutschland
ATTACH;FMTTYPE=image/jpeg:https://dresden-gruna.de/wp-content/uploads/2022/12/images.jpg
ORGANIZER;CN="'In Gruna leben' e.V.":MAILTO:post@dresden-gruna.de
END:VEVENT
BEGIN:VEVENT
DTSTART;TZID=Europe/Berlin:20230109T100000
DTEND;TZID=Europe/Berlin:20230109T123000
DTSTAMP:20260422T205656
CREATED:20221218T090945Z
LAST-MODIFIED:20221218T090945Z
UID:4518-1673258400-1673267400@dresden-gruna.de
SUMMARY:Sprechzeit im Bürgertreff
DESCRIPTION:Haben Sie Fragen oder Anregungen \, können Sie gern in dieser Zeit bei uns  vorbeikommen. \nBenötigen Sie Hilfestellung im Alltag \, beim Einkauf oder mal ein Gespräch wir sind gern für Ihre Anliegen da und haben ein offenes Ohr für Sie.
URL:https://dresden-gruna.de/event/sprechzeit-im-buergertreff/
LOCATION:Bürger-Treff „Grunaer Aue“ Winterbergstr.31c\, 01277 Dresden\, Winterbergstraße 31c\, Dresden\, 01277\, Deutschland
ORGANIZER;CN="'In Gruna leben' e.V.":MAILTO:post@dresden-gruna.de
END:VEVENT
BEGIN:VEVENT
DTSTART;TZID=Europe/Berlin:20230109T150000
DTEND;TZID=Europe/Berlin:20230109T170000
DTSTAMP:20260422T205656
CREATED:20221106T150035Z
LAST-MODIFIED:20230103T005335Z
UID:4370-1673276400-1673283600@dresden-gruna.de
SUMMARY:Malraum im Grünen Pavillon
DESCRIPTION:Male\, was in dir ist! Jeweils 1 Stunde intuitives Malen im geschützten Raum unter professioneller Leitung.
URL:https://dresden-gruna.de/event/malraum-im-gruenen-pavillon-14/
LOCATION:Eltern-Kind-Büro\, Rosenbergstr. 10\, Dresden\, 01277\, Deutschland
ORGANIZER;CN="'In Gruna leben' e.V.":MAILTO:post@dresden-gruna.de
END:VEVENT
BEGIN:VEVENT
DTSTART;TZID=Europe/Berlin:20230109T150000
DTEND;TZID=Europe/Berlin:20230109T170000
DTSTAMP:20260422T205656
CREATED:20221218T094725Z
LAST-MODIFIED:20221218T094725Z
UID:4535-1673276400-1673283600@dresden-gruna.de
SUMMARY:Nachbarschaftskreis Gruna
DESCRIPTION:Einladung zum Neujahrsempfang des Nachbarschaftskreises Gruna „Die Reste des alten sind der Humus des neuen Jahres“; wir stimmen uns auf 2023 ein.
URL:https://dresden-gruna.de/event/nachbarschaftskreis-gruna/
LOCATION:Bürger-Treff „Grunaer Aue“ Winterbergstr.31c\, 01277 Dresden\, Winterbergstraße 31c\, Dresden\, 01277\, Deutschland
ATTACH;FMTTYPE=image/jpeg:https://dresden-gruna.de/wp-content/uploads/2022/10/Nachbarschaftskreis-Logo.jpg
ORGANIZER;CN="Sigus e.V.":MAILTO:sigus-dd@t-online.de
END:VEVENT
END:VCALENDAR