BEGIN:VCALENDAR
VERSION:2.0
PRODID:-//In Gruna leben e.V. - ECPv6.8.3//NONSGML v1.0//EN
CALSCALE:GREGORIAN
METHOD:PUBLISH
X-ORIGINAL-URL:https://dresden-gruna.de
X-WR-CALDESC:Veranstaltungen für In Gruna leben e.V.
REFRESH-INTERVAL;VALUE=DURATION:PT1H
X-Robots-Tag:noindex
X-PUBLISHED-TTL:PT1H
BEGIN:VTIMEZONE
TZID:Europe/Berlin
BEGIN:DAYLIGHT
TZOFFSETFROM:+0100
TZOFFSETTO:+0200
TZNAME:CEST
DTSTART:20230326T010000
END:DAYLIGHT
BEGIN:STANDARD
TZOFFSETFROM:+0200
TZOFFSETTO:+0100
TZNAME:CET
DTSTART:20231029T010000
END:STANDARD
END:VTIMEZONE
BEGIN:VEVENT
DTSTART;TZID=Europe/Berlin:20230105T110000
DTEND;TZID=Europe/Berlin:20230105T120000
DTSTAMP:20260422T205543
CREATED:20221218T125215Z
LAST-MODIFIED:20221218T125215Z
UID:4588-1672916400-1672920000@dresden-gruna.de
SUMMARY:BEWERBUNGSCHECK & OPTIMIERUNG
DESCRIPTION:„Vier Augen sehen mehr als zwei“ – das trifft auch auf die Bewerbung zu. \nSchluss mit langem Grübeln alleine zu Hause: Ist meine Bewerbung so „richtig“? Sollte ich den einen Satz doch anders schreiben? Passt die Bewerbung überhaupt zu mir? Wie wirkt die Bewerbung auf Andere? \nKomm unverbindlich in die für dich kostenfreie Sprechstunde und du erhältst eine Rückmeldung und Unterstützung bei der Optimierung deines Bewerbungsprozesses. \nTabea Grosser Tel. 0162 6370859
URL:https://dresden-gruna.de/event/bewerbungscheck-optimierung/
LOCATION:Bürger-Treff „Grunaer Aue“ Winterbergstr.31c\, 01277 Dresden\, Winterbergstraße 31c\, Dresden\, 01277\, Deutschland
ORGANIZER;CN="'In Gruna leben' e.V.":MAILTO:post@dresden-gruna.de
END:VEVENT
END:VCALENDAR