BEGIN:VCALENDAR
VERSION:2.0
PRODID:-//In Gruna leben e.V. - ECPv6.8.3//NONSGML v1.0//EN
CALSCALE:GREGORIAN
METHOD:PUBLISH
X-ORIGINAL-URL:https://dresden-gruna.de
X-WR-CALDESC:Veranstaltungen für In Gruna leben e.V.
REFRESH-INTERVAL;VALUE=DURATION:PT1H
X-Robots-Tag:noindex
X-PUBLISHED-TTL:PT1H
BEGIN:VTIMEZONE
TZID:Europe/Berlin
BEGIN:DAYLIGHT
TZOFFSETFROM:+0100
TZOFFSETTO:+0200
TZNAME:CEST
DTSTART:20220327T010000
END:DAYLIGHT
BEGIN:STANDARD
TZOFFSETFROM:+0200
TZOFFSETTO:+0100
TZNAME:CET
DTSTART:20221030T010000
END:STANDARD
END:VTIMEZONE
BEGIN:VEVENT
DTSTART;TZID=Europe/Berlin:20221129T100000
DTEND;TZID=Europe/Berlin:20221129T120000
DTSTAMP:20260422T223536
CREATED:20221108T161752Z
LAST-MODIFIED:20221108T164356Z
UID:4414-1669716000-1669723200@dresden-gruna.de
SUMMARY:Frauenfrühstück
DESCRIPTION:Einstimmung auf die schöne Weihnachtszeit…… \nWir möchten gern gemeinsam weihnachtliche Gestecke gestalten und ein leckeres Frühstück genießen. \n 
URL:https://dresden-gruna.de/event/frauenfruehstueck/
LOCATION:Bürger-Treff „Grunaer Aue“ Winterbergstr.31c\, 01277 Dresden\, Winterbergstraße 31c\, Dresden\, 01277\, Deutschland
END:VEVENT
BEGIN:VEVENT
DTSTART;TZID=Europe/Berlin:20221129T140000
DTEND;TZID=Europe/Berlin:20221129T170000
DTSTAMP:20260422T223536
CREATED:20221108T165101Z
LAST-MODIFIED:20221108T165211Z
UID:4421-1669730400-1669741200@dresden-gruna.de
SUMMARY:Weihnachtliches basteln für alle.
DESCRIPTION:Wir möchten gern einladen \, gemeinsam uns auf die Weihnachtszeit  ein zustimmen und kleine Weihnachtsgestecke herstellen
URL:https://dresden-gruna.de/event/weihnachtliches-basteln-fuer-alle/
LOCATION:Bürger-Treff „Grunaer Aue“ Winterbergstr.31c\, 01277 Dresden\, Winterbergstraße 31c\, Dresden\, 01277\, Deutschland
END:VEVENT
BEGIN:VEVENT
DTSTART;TZID=Europe/Berlin:20221129T160000
DTEND;TZID=Europe/Berlin:20221129T180000
DTSTAMP:20260422T223536
CREATED:20221106T150322Z
LAST-MODIFIED:20221106T150322Z
UID:4378-1669737600-1669744800@dresden-gruna.de
SUMMARY:Mitmach-Zirkus
DESCRIPTION:Jonglieren\, Zaubern\, Akrobatik – Zirkuspädagog:innen bringen Jung wie Alt die Faszination der Zirkuskunst näher. Ein Workshop für alle!
URL:https://dresden-gruna.de/event/mitmach-zirkus-2/
LOCATION:Villa Akazienhof\, Schneebergstraße 16\, Schneebergstr. 16\, Dresden\, Sachsen\, 01277\, Deutschland
ORGANIZER;CN="'In Gruna leben' e.V.":MAILTO:post@dresden-gruna.de
END:VEVENT
END:VCALENDAR