BEGIN:VCALENDAR
VERSION:2.0
PRODID:-//In Gruna leben e.V. - ECPv6.8.3//NONSGML v1.0//EN
CALSCALE:GREGORIAN
METHOD:PUBLISH
X-ORIGINAL-URL:https://dresden-gruna.de
X-WR-CALDESC:Veranstaltungen für In Gruna leben e.V.
REFRESH-INTERVAL;VALUE=DURATION:PT1H
X-Robots-Tag:noindex
X-PUBLISHED-TTL:PT1H
BEGIN:VTIMEZONE
TZID:Europe/Berlin
BEGIN:DAYLIGHT
TZOFFSETFROM:+0100
TZOFFSETTO:+0200
TZNAME:CEST
DTSTART:20220327T010000
END:DAYLIGHT
BEGIN:STANDARD
TZOFFSETFROM:+0200
TZOFFSETTO:+0100
TZNAME:CET
DTSTART:20221030T010000
END:STANDARD
END:VTIMEZONE
BEGIN:VEVENT
DTSTART;TZID=Europe/Berlin:20221103T110000
DTEND;TZID=Europe/Berlin:20221103T120000
DTSTAMP:20260423T000522
CREATED:20221010T111348Z
LAST-MODIFIED:20221010T111348Z
UID:4321-1667473200-1667476800@dresden-gruna.de
SUMMARY:Babymassage
DESCRIPTION:Entspannen – Beruhigen – Vertrauen stärken \n\nEine Babymassage ist liebevolle Kontaktaufnahme zum Kind. Sie regt alle Sinne an und unterstützt die geistige\, körperliche und motorische Entwicklung Ihres Kindes. Die behutsam und respektvoll ausgeführten Handgriffe sind leicht zu erlernen und werden den Bedürfnissen jedes Babys angepasst.\nDas optimale Alter der Babys (auch Frühgeborene oder Babys mit besonderen Bedürfnissen) liegt zwischen 4 Wochen und dem Krabbelalter.\nEin Babymassagekurs umfasst 4 Einheiten und dauert etwa 50 bis 60 Minuten. Ein Kurseinstieg ist jederzeit möglich!\nAblauf:\n\n\n\nStunde: Beine\nStunde: Bauch\nStunde Brust und Arme\nStunde Gesicht und Rücken\n\n\n\n\n\n\nJede Stunde wird das aus der vorherigen Stunde wiederholt oder auch auf Wunsch etwas anderes\, je nachdem was die Kinder auch mögen.\n\nDieser Kurs findet in Kooperation mit Mamutra (www.mamutra.de) statt. Er ist kostenfrei\, es wird um einen Solibeitrag gebeten.
URL:https://dresden-gruna.de/event/babymassage-2/
LOCATION:Eltern-Kind-Büro\, Rosenbergstr. 10\, Dresden\, 01277\, Deutschland
CATEGORIES:Treffen und Kurse
END:VEVENT
END:VCALENDAR