BEGIN:VCALENDAR
VERSION:2.0
PRODID:-//In Gruna leben e.V. - ECPv6.8.3//NONSGML v1.0//EN
CALSCALE:GREGORIAN
METHOD:PUBLISH
X-ORIGINAL-URL:https://dresden-gruna.de
X-WR-CALDESC:Veranstaltungen für In Gruna leben e.V.
REFRESH-INTERVAL;VALUE=DURATION:PT1H
X-Robots-Tag:noindex
X-PUBLISHED-TTL:PT1H
BEGIN:VTIMEZONE
TZID:Europe/Berlin
BEGIN:DAYLIGHT
TZOFFSETFROM:+0100
TZOFFSETTO:+0200
TZNAME:CEST
DTSTART:20220327T010000
END:DAYLIGHT
BEGIN:STANDARD
TZOFFSETFROM:+0200
TZOFFSETTO:+0100
TZNAME:CET
DTSTART:20221030T010000
END:STANDARD
END:VTIMEZONE
BEGIN:VEVENT
DTSTART;TZID=Europe/Berlin:20221014T160000
DTEND;TZID=Europe/Berlin:20221014T180000
DTSTAMP:20260423T015722
CREATED:20221005T163123Z
LAST-MODIFIED:20221005T163123Z
UID:4267-1665763200-1665770400@dresden-gruna.de
SUMMARY:Garten-Aktion
DESCRIPTION:Gemeinsam schuften und gemeinsam schlemmen! Im Anschluss ans Rumgärtnern im Garten laden wir alle Helfer:innen zum gemeinsamen Essen ein.
URL:https://dresden-gruna.de/event/garten-aktion-6/
LOCATION:Villa Akazienhof\, Schneebergstraße 16\, Schneebergstr. 16\, Dresden\, Sachsen\, 01277\, Deutschland
CATEGORIES:Akazienhof
ORGANIZER;CN="'In Gruna leben' e.V.":MAILTO:post@dresden-gruna.de
END:VEVENT
END:VCALENDAR