BEGIN:VCALENDAR
VERSION:2.0
PRODID:-//In Gruna leben e.V. - ECPv6.8.3//NONSGML v1.0//EN
CALSCALE:GREGORIAN
METHOD:PUBLISH
X-ORIGINAL-URL:https://dresden-gruna.de
X-WR-CALDESC:Veranstaltungen für In Gruna leben e.V.
REFRESH-INTERVAL;VALUE=DURATION:PT1H
X-Robots-Tag:noindex
X-PUBLISHED-TTL:PT1H
BEGIN:VTIMEZONE
TZID:Europe/Berlin
BEGIN:DAYLIGHT
TZOFFSETFROM:+0100
TZOFFSETTO:+0200
TZNAME:CEST
DTSTART:20220327T010000
END:DAYLIGHT
BEGIN:STANDARD
TZOFFSETFROM:+0200
TZOFFSETTO:+0100
TZNAME:CET
DTSTART:20221030T010000
END:STANDARD
END:VTIMEZONE
BEGIN:VEVENT
DTSTART;TZID=Europe/Berlin:20220713T193000
DTEND;TZID=Europe/Berlin:20220713T213000
DTSTAMP:20260423T063331
CREATED:20220711T231208Z
LAST-MODIFIED:20220711T231208Z
UID:4002-1657740600-1657747800@dresden-gruna.de
SUMMARY:Vollmondfeuer
DESCRIPTION:Wir feiern den größten und hellsten Vollmond des Jahres gemeinsam an der Feuerschale. Bringt gern nach Herzenslust Essen\, Trinken\, Instrumente oder Räucherwerk mit.
URL:https://dresden-gruna.de/event/vollmondfeuer/
LOCATION:Villa Akazienhof\, Schneebergstraße 16\, Schneebergstr. 16\, Dresden\, Sachsen\, 01277\, Deutschland
CATEGORIES:Akazienhof,Feste,Kultur am (4.) Mittwoch
ORGANIZER;CN="'In Gruna leben' e.V.":MAILTO:post@dresden-gruna.de
END:VEVENT
END:VCALENDAR