BEGIN:VCALENDAR
VERSION:2.0
PRODID:-//In Gruna leben e.V. - ECPv6.8.3//NONSGML v1.0//EN
CALSCALE:GREGORIAN
METHOD:PUBLISH
X-ORIGINAL-URL:https://dresden-gruna.de
X-WR-CALDESC:Veranstaltungen für In Gruna leben e.V.
REFRESH-INTERVAL;VALUE=DURATION:PT1H
X-Robots-Tag:noindex
X-PUBLISHED-TTL:PT1H
BEGIN:VTIMEZONE
TZID:Europe/Berlin
BEGIN:DAYLIGHT
TZOFFSETFROM:+0100
TZOFFSETTO:+0200
TZNAME:CEST
DTSTART:20210328T010000
END:DAYLIGHT
BEGIN:STANDARD
TZOFFSETFROM:+0200
TZOFFSETTO:+0100
TZNAME:CET
DTSTART:20211031T010000
END:STANDARD
END:VTIMEZONE
BEGIN:VEVENT
DTSTART;TZID=Europe/Berlin:20211108T150000
DTEND;TZID=Europe/Berlin:20211108T180000
DTSTAMP:20260423T190022
CREATED:20211028T083737Z
LAST-MODIFIED:20211028T083737Z
UID:3608-1636383600-1636394400@dresden-gruna.de
SUMMARY:Literarischen Telefonzelle
DESCRIPTION:An jedem 2. und 4. Montag treffen wir uns von 15 Uhr bis 17 Uhr wieder in der Literarischen Telefonzelle; im November begleiten wir Narziß und Goldmund durch ihre lebenslange Freundschaft\, die auch Pestzeiten überdauert.
URL:https://dresden-gruna.de/event/literarischen-telefonzelle-2/
LOCATION:Bürger-Treff „Grunaer Aue“ Winterbergstr.31c\, 01277 Dresden\, Winterbergstraße 31c\, Dresden\, 01277\, Deutschland
END:VEVENT
END:VCALENDAR