BEGIN:VCALENDAR
VERSION:2.0
PRODID:-//In Gruna leben e.V. - ECPv6.8.3//NONSGML v1.0//EN
CALSCALE:GREGORIAN
METHOD:PUBLISH
X-ORIGINAL-URL:https://dresden-gruna.de
X-WR-CALDESC:Veranstaltungen für In Gruna leben e.V.
REFRESH-INTERVAL;VALUE=DURATION:PT1H
X-Robots-Tag:noindex
X-PUBLISHED-TTL:PT1H
BEGIN:VTIMEZONE
TZID:Europe/Berlin
BEGIN:DAYLIGHT
TZOFFSETFROM:+0100
TZOFFSETTO:+0200
TZNAME:CEST
DTSTART:20210328T010000
END:DAYLIGHT
BEGIN:STANDARD
TZOFFSETFROM:+0200
TZOFFSETTO:+0100
TZNAME:CET
DTSTART:20211031T010000
END:STANDARD
END:VTIMEZONE
BEGIN:VEVENT
DTSTART;VALUE=DATE:20211001
DTEND;VALUE=DATE:20211017
DTSTAMP:20260423T204451
CREATED:20210615T071504Z
LAST-MODIFIED:20210615T071504Z
UID:3399-1633046400-1634428799@dresden-gruna.de
SUMMARY:Nachbarschaftstage
DESCRIPTION:Auch 2021 wird es wieder die Grunaer Nachbarschaftstage mit einer Vielzahl an verschiedenen Veranstaltungen gaben. Das diesjährige Motto lautet „Nachbarn – gestern und heute“. An Planung und Organisation interessierte sind herzlich eingeladen mitzugestalten!
URL:https://dresden-gruna.de/event/nachbarschaftstage-2/
CATEGORIES:Feste,Projekte und Aktionen
ORGANIZER;CN="'In Gruna leben' e.V.":MAILTO:post@dresden-gruna.de
END:VEVENT
BEGIN:VEVENT
DTSTART;TZID=Europe/Berlin:20211012T160000
DTEND;TZID=Europe/Berlin:20211012T173000
DTSTAMP:20260423T204451
CREATED:20211005T094105Z
LAST-MODIFIED:20211005T094105Z
UID:3530-1634054400-1634059800@dresden-gruna.de
SUMMARY:Spielekiste der Ev.-Kirchl. Gemeinschaft im Rothermundtpark
DESCRIPTION:
URL:https://dresden-gruna.de/event/spielekiste-der-ev-kirchl-gemeinschaft-im-rothermundtpark/
LOCATION:Rothermundtpark\, Dresden\, 01277\, Deutschland
CATEGORIES:Projekte und Aktionen
END:VEVENT
BEGIN:VEVENT
DTSTART;TZID=Europe/Berlin:20211012T170000
DTEND;TZID=Europe/Berlin:20211012T170000
DTSTAMP:20260423T204451
CREATED:20211005T094201Z
LAST-MODIFIED:20211006T103555Z
UID:3533-1634058000-1634058000@dresden-gruna.de
SUMMARY:Wir haben noch etwas zu sagen.
DESCRIPTION:Schreibende Nachbarn lesen aus ihrem\nBILDERBUCH DER ERINNERUNGEN\nBst. Wiesenhäuser/ASB \nSo unterschiedlich wie die fünf Autorinnen sind auch ihre Geschichten: bildhaft-erzählend\, philosophisch-tiefgründig\, naturalistisch oder abstrakt. Alle setzen sich mit Dingen auseinander\, die den Frauen im Laufe ihres Lebens widerfahren sind\, mit Situationen\, in die sie hineingeworfen wurden\, mit Menschen\, die sie gefunden oder verloren haben\, mit Veränderungen und Konstanten. Erzählt wird von Teedosen und goldenen Kellen\, Fischen und Katern\, Milchpudding und Zwiebel\, einem alten Fahrrad und neuen Fabriken\, Reisen in ferne und nahe Länder – von den vielen Farben des Lebens.
URL:https://dresden-gruna.de/event/wir-haben-noch-etwas-zu-sagen/
LOCATION:ASB Wiesenhäuser\, Wiesenstraße 17\, Dresden\, 01277\, Deutschland
CATEGORIES:Projekte und Aktionen
ORGANIZER;CN="Sigus e.V.":MAILTO:sigus-dd@t-online.de
END:VEVENT
BEGIN:VEVENT
DTSTART;TZID=Europe/Berlin:20211012T180000
DTEND;TZID=Europe/Berlin:20211012T180000
DTSTAMP:20260423T204451
CREATED:20211005T094312Z
LAST-MODIFIED:20211005T094332Z
UID:3535-1634061600-1634061600@dresden-gruna.de
SUMMARY:Am Stammtisch mit dem  Stadtbezirksamtsleiter
DESCRIPTION:Christian Barth läd\nzum Gespräch in das Bodenbacher Eck ein.
URL:https://dresden-gruna.de/event/am-stammtisch-mit-dem-stadtbezirksamtsleiter/
LOCATION:Bodenbacher Eck\, Bodenbacher Str. 28\, Dresden\, 01277\, Deutschland
CATEGORIES:Projekte und Aktionen
ORGANIZER;CN="'In Gruna leben' e.V.":MAILTO:post@dresden-gruna.de
END:VEVENT
END:VCALENDAR