BEGIN:VCALENDAR
VERSION:2.0
PRODID:-//In Gruna leben e.V. - ECPv6.8.3//NONSGML v1.0//EN
CALSCALE:GREGORIAN
METHOD:PUBLISH
X-ORIGINAL-URL:https://dresden-gruna.de
X-WR-CALDESC:Veranstaltungen für In Gruna leben e.V.
REFRESH-INTERVAL;VALUE=DURATION:PT1H
X-Robots-Tag:noindex
X-PUBLISHED-TTL:PT1H
BEGIN:VTIMEZONE
TZID:Europe/Berlin
BEGIN:DAYLIGHT
TZOFFSETFROM:+0100
TZOFFSETTO:+0200
TZNAME:CEST
DTSTART:20210328T010000
END:DAYLIGHT
BEGIN:STANDARD
TZOFFSETFROM:+0200
TZOFFSETTO:+0100
TZNAME:CET
DTSTART:20211031T010000
END:STANDARD
END:VTIMEZONE
BEGIN:VEVENT
DTSTART;VALUE=DATE:20211001
DTEND;VALUE=DATE:20211017
DTSTAMP:20260423T204451
CREATED:20210615T071504Z
LAST-MODIFIED:20210615T071504Z
UID:3399-1633046400-1634428799@dresden-gruna.de
SUMMARY:Nachbarschaftstage
DESCRIPTION:Auch 2021 wird es wieder die Grunaer Nachbarschaftstage mit einer Vielzahl an verschiedenen Veranstaltungen gaben. Das diesjährige Motto lautet „Nachbarn – gestern und heute“. An Planung und Organisation interessierte sind herzlich eingeladen mitzugestalten!
URL:https://dresden-gruna.de/event/nachbarschaftstage-2/
CATEGORIES:Feste,Projekte und Aktionen
ORGANIZER;CN="'In Gruna leben' e.V.":MAILTO:post@dresden-gruna.de
END:VEVENT
BEGIN:VEVENT
DTSTART;TZID=Europe/Berlin:20211011T140000
DTEND;TZID=Europe/Berlin:20211011T160000
DTSTAMP:20260423T204451
CREATED:20211005T093823Z
LAST-MODIFIED:20211005T093823Z
UID:3526-1633960800-1633968000@dresden-gruna.de
SUMMARY:Bunter Spielenachmittag: Die Nachbar- schaft trifft sich zum Spielen
DESCRIPTION:Wir probieren im fidelio gemeinsam Spiele\nfür drinnen und draußen aus.
URL:https://dresden-gruna.de/event/bunter-spielenachmittag-die-nachbar-schaft-trifft-sich-zum-spielen/
LOCATION:fidelio\, Papstdorfer Str. 25\, Dresden\, 01277\, Deutschland
CATEGORIES:Projekte und Aktionen
END:VEVENT
BEGIN:VEVENT
DTSTART;TZID=Europe/Berlin:20211011T150000
DTEND;TZID=Europe/Berlin:20211011T163000
DTSTAMP:20260423T204451
CREATED:20211005T093952Z
LAST-MODIFIED:20211005T093952Z
UID:3528-1633964400-1633969800@dresden-gruna.de
SUMMARY:Lebensqualität im Alter\, technisch  unterstützt und sozial eingebunden.
DESCRIPTION:Digitali-\nsierung für und mit Senior*innen\, begleitet\nvom Medienzentrum der TU Dresden\nentsteht ein Anlaufpunkt und Multiplikatoren-\ntreff für altersgerechte Technikanwendungen.\nAls Start zu einem allmonatlichen Technik-\ntreff in Gruna. Im Bürgertreff
URL:https://dresden-gruna.de/event/lebensqualitaet-im-alter-technisch-unterstuetzt-und-sozial-eingebunden/
LOCATION:Bürger-Treff „Grunaer Aue“ Winterbergstr.31c\, 01277 Dresden\, Winterbergstraße 31c\, Dresden\, 01277\, Deutschland
CATEGORIES:Projekte und Aktionen
ORGANIZER;CN="Sigus e.V.":MAILTO:sigus-dd@t-online.de
END:VEVENT
END:VCALENDAR