BEGIN:VCALENDAR
VERSION:2.0
PRODID:-//In Gruna leben e.V. - ECPv6.8.3//NONSGML v1.0//EN
CALSCALE:GREGORIAN
METHOD:PUBLISH
X-ORIGINAL-URL:https://dresden-gruna.de
X-WR-CALDESC:Veranstaltungen für In Gruna leben e.V.
REFRESH-INTERVAL;VALUE=DURATION:PT1H
X-Robots-Tag:noindex
X-PUBLISHED-TTL:PT1H
BEGIN:VTIMEZONE
TZID:Europe/Berlin
BEGIN:DAYLIGHT
TZOFFSETFROM:+0100
TZOFFSETTO:+0200
TZNAME:CEST
DTSTART:20210328T010000
END:DAYLIGHT
BEGIN:STANDARD
TZOFFSETFROM:+0200
TZOFFSETTO:+0100
TZNAME:CET
DTSTART:20211031T010000
END:STANDARD
END:VTIMEZONE
BEGIN:VEVENT
DTSTART;VALUE=DATE:20211001
DTEND;VALUE=DATE:20211017
DTSTAMP:20260423T204410
CREATED:20210615T071504Z
LAST-MODIFIED:20210615T071504Z
UID:3399-1633046400-1634428799@dresden-gruna.de
SUMMARY:Nachbarschaftstage
DESCRIPTION:Auch 2021 wird es wieder die Grunaer Nachbarschaftstage mit einer Vielzahl an verschiedenen Veranstaltungen gaben. Das diesjährige Motto lautet „Nachbarn – gestern und heute“. An Planung und Organisation interessierte sind herzlich eingeladen mitzugestalten!
URL:https://dresden-gruna.de/event/nachbarschaftstage-2/
CATEGORIES:Feste,Projekte und Aktionen
ORGANIZER;CN="'In Gruna leben' e.V.":MAILTO:post@dresden-gruna.de
END:VEVENT
BEGIN:VEVENT
DTSTART;TZID=Europe/Berlin:20211010T100000
DTEND;TZID=Europe/Berlin:20211010T180000
DTSTAMP:20260423T204410
CREATED:20211001T233310Z
LAST-MODIFIED:20211001T233310Z
UID:3515-1633860000-1633888800@dresden-gruna.de
SUMMARY:Grunaer Brunnenfest
DESCRIPTION:Unter dem Motto „Gemeinsame Tage –\nGestern und heute in Gruna“ gibt es ein buntes\nBühnenprogramm\, ein Kultur- und Mediazelt\,\nStände und Mitmachaktionen: Nachbarschafts-\nMitbring-Frühstück (10 Uhr)\, „Wirtschaftswun-\nder(17 Uhr)\, Kinderzirkus\, Tanzsportgarde\,\nTanzkreis\, Chor „Marie“\, „Die Zornigen Alten“\nu.v.m.
URL:https://dresden-gruna.de/event/grunaer-brunnenfest-2/
LOCATION:Findlingsbrunnen\, 2QMP+M5 Dresden\, Dresden\, 01277\, Deutschland
CATEGORIES:Feste,Projekte und Aktionen
END:VEVENT
END:VCALENDAR