BEGIN:VCALENDAR
VERSION:2.0
PRODID:-//In Gruna leben e.V. - ECPv6.8.3//NONSGML v1.0//EN
CALSCALE:GREGORIAN
METHOD:PUBLISH
X-ORIGINAL-URL:https://dresden-gruna.de
X-WR-CALDESC:Veranstaltungen für In Gruna leben e.V.
REFRESH-INTERVAL;VALUE=DURATION:PT1H
X-Robots-Tag:noindex
X-PUBLISHED-TTL:PT1H
BEGIN:VTIMEZONE
TZID:Europe/Berlin
BEGIN:DAYLIGHT
TZOFFSETFROM:+0100
TZOFFSETTO:+0200
TZNAME:CEST
DTSTART:20210328T010000
END:DAYLIGHT
BEGIN:STANDARD
TZOFFSETFROM:+0200
TZOFFSETTO:+0100
TZNAME:CET
DTSTART:20211031T010000
END:STANDARD
END:VTIMEZONE
BEGIN:VEVENT
DTSTART;VALUE=DATE:20211001
DTEND;VALUE=DATE:20211017
DTSTAMP:20260423T204411
CREATED:20210615T071504Z
LAST-MODIFIED:20210615T071504Z
UID:3399-1633046400-1634428799@dresden-gruna.de
SUMMARY:Nachbarschaftstage
DESCRIPTION:Auch 2021 wird es wieder die Grunaer Nachbarschaftstage mit einer Vielzahl an verschiedenen Veranstaltungen gaben. Das diesjährige Motto lautet „Nachbarn – gestern und heute“. An Planung und Organisation interessierte sind herzlich eingeladen mitzugestalten!
URL:https://dresden-gruna.de/event/nachbarschaftstage-2/
CATEGORIES:Feste,Projekte und Aktionen
ORGANIZER;CN="'In Gruna leben' e.V.":MAILTO:post@dresden-gruna.de
END:VEVENT
BEGIN:VEVENT
DTSTART;TZID=Europe/Berlin:20211007T090000
DTEND;TZID=Europe/Berlin:20211007T110000
DTSTAMP:20260423T204411
CREATED:20211001T232211Z
LAST-MODIFIED:20211001T232211Z
UID:3500-1633597200-1633604400@dresden-gruna.de
SUMMARY:Gedächtnistraining mit Gruna-Bezug Fitness für die "grauen Zellen"
DESCRIPTION:heute mit\nthematischem Bezug zu unserem Stadtteil.
URL:https://dresden-gruna.de/event/gedaechtnistraining-mit-gruna-bezug-fitness-fuer-die-grauen-zellen/
LOCATION:fidelio\, Papstdorfer Str. 25\, Dresden\, 01277\, Deutschland
END:VEVENT
BEGIN:VEVENT
DTSTART;TZID=Europe/Berlin:20211007T163000
DTEND;TZID=Europe/Berlin:20211007T180000
DTSTAMP:20260423T204411
CREATED:20211001T232326Z
LAST-MODIFIED:20211001T232326Z
UID:3502-1633624200-1633629600@dresden-gruna.de
SUMMARY:Kaffeeklatsch mit den grünen  Stadtbezirksbeirät*innen
DESCRIPTION:Bei Kaffee oder\nTee wollen wir mit Ihnen am Findlingsbrunnen\nins Gespräch kommen – Informationen und\nAntworten rund um den politischen Alltag.
URL:https://dresden-gruna.de/event/kaffeeklatsch-mit-den-gruenen-stadtbezirksbeiraetinnen/
LOCATION:Findlingsbrunnen\, 2QMP+M5 Dresden\, Dresden\, 01277\, Deutschland
CATEGORIES:Projekte und Aktionen
END:VEVENT
BEGIN:VEVENT
DTSTART;TZID=Europe/Berlin:20211007T170000
DTEND;TZID=Europe/Berlin:20211007T170000
DTSTAMP:20260423T204411
CREATED:20211001T232425Z
LAST-MODIFIED:20211001T232425Z
UID:3504-1633626000-1633626000@dresden-gruna.de
SUMMARY:Serenade vom Posaunenchor  Gruna/Seidnitz
DESCRIPTION:Gartenheimsiedlung\, Uttewalder Strasse (Wiese)
URL:https://dresden-gruna.de/event/serenade-vom-posaunenchor-gruna-seidnitz/
CATEGORIES:Projekte und Aktionen
END:VEVENT
END:VCALENDAR