BEGIN:VCALENDAR
VERSION:2.0
PRODID:-//In Gruna leben e.V. - ECPv6.8.3//NONSGML v1.0//EN
CALSCALE:GREGORIAN
METHOD:PUBLISH
X-ORIGINAL-URL:https://dresden-gruna.de
X-WR-CALDESC:Veranstaltungen für In Gruna leben e.V.
REFRESH-INTERVAL;VALUE=DURATION:PT1H
X-Robots-Tag:noindex
X-PUBLISHED-TTL:PT1H
BEGIN:VTIMEZONE
TZID:Europe/Berlin
BEGIN:DAYLIGHT
TZOFFSETFROM:+0100
TZOFFSETTO:+0200
TZNAME:CEST
DTSTART:20210328T010000
END:DAYLIGHT
BEGIN:STANDARD
TZOFFSETFROM:+0200
TZOFFSETTO:+0100
TZNAME:CET
DTSTART:20211031T010000
END:STANDARD
END:VTIMEZONE
BEGIN:VEVENT
DTSTART;VALUE=DATE:20211001
DTEND;VALUE=DATE:20211017
DTSTAMP:20260423T221146
CREATED:20210615T071504Z
LAST-MODIFIED:20210615T071504Z
UID:3399-1633046400-1634428799@dresden-gruna.de
SUMMARY:Nachbarschaftstage
DESCRIPTION:Auch 2021 wird es wieder die Grunaer Nachbarschaftstage mit einer Vielzahl an verschiedenen Veranstaltungen gaben. Das diesjährige Motto lautet „Nachbarn – gestern und heute“. An Planung und Organisation interessierte sind herzlich eingeladen mitzugestalten!
URL:https://dresden-gruna.de/event/nachbarschaftstage-2/
CATEGORIES:Feste,Projekte und Aktionen
ORGANIZER;CN="'In Gruna leben' e.V.":MAILTO:post@dresden-gruna.de
END:VEVENT
BEGIN:VEVENT
DTSTART;TZID=Europe/Berlin:20211003T100000
DTEND;TZID=Europe/Berlin:20211003T100000
DTSTAMP:20260423T221146
CREATED:20211001T231340Z
LAST-MODIFIED:20211001T231340Z
UID:3491-1633255200-1633255200@dresden-gruna.de
SUMMARY:Gottesdienst auf der Baustelle Thomaskirche
DESCRIPTION:mit Posaunenchor und Band
URL:https://dresden-gruna.de/event/gottesdienst-auf-der-baustelle-thomaskirche/
LOCATION:Thomaskirche\, Bodenbacher Str. 21\, Dresden\, 01277\, Deutschland
CATEGORIES:Projekte und Aktionen
ORGANIZER;CN="Evangelisch-Lutherische Kirchgemeinde Dresden Gruna-Seidnitz":MAILTO:pfarramt@kirche-gruna-seidnitz.net
END:VEVENT
BEGIN:VEVENT
DTSTART;TZID=Europe/Berlin:20211003T160000
DTEND;TZID=Europe/Berlin:20211003T163000
DTSTAMP:20260423T221146
CREATED:20211001T231441Z
LAST-MODIFIED:20211001T231441Z
UID:3493-1633276800-1633278600@dresden-gruna.de
SUMMARY:Zaubervortrag zu Bartholomeo Bosco\, dem Grunaer Zauberer
DESCRIPTION:
URL:https://dresden-gruna.de/event/zaubervortrag-zu-bartholomeo-bosco-dem-grunaer-zauberer/
LOCATION:Bürger-Treff „Grunaer Aue“ Winterbergstr.31c\, 01277 Dresden\, Winterbergstraße 31c\, Dresden\, 01277\, Deutschland
CATEGORIES:Projekte und Aktionen
END:VEVENT
END:VCALENDAR