BEGIN:VCALENDAR
VERSION:2.0
PRODID:-//In Gruna leben e.V. - ECPv6.8.3//NONSGML v1.0//EN
CALSCALE:GREGORIAN
METHOD:PUBLISH
X-ORIGINAL-URL:https://dresden-gruna.de
X-WR-CALDESC:Veranstaltungen für In Gruna leben e.V.
REFRESH-INTERVAL;VALUE=DURATION:PT1H
X-Robots-Tag:noindex
X-PUBLISHED-TTL:PT1H
BEGIN:VTIMEZONE
TZID:Europe/Berlin
BEGIN:DAYLIGHT
TZOFFSETFROM:+0100
TZOFFSETTO:+0200
TZNAME:CEST
DTSTART:20210328T010000
END:DAYLIGHT
BEGIN:STANDARD
TZOFFSETFROM:+0200
TZOFFSETTO:+0100
TZNAME:CET
DTSTART:20211031T010000
END:STANDARD
END:VTIMEZONE
BEGIN:VEVENT
DTSTART;TZID=Europe/Berlin:20210909T100000
DTEND;TZID=Europe/Berlin:20210909T113000
DTSTAMP:20260423T221249
CREATED:20210818T083353Z
LAST-MODIFIED:20210818T083353Z
UID:3445-1631181600-1631187000@dresden-gruna.de
SUMMARY:Treff mit Smartphone für Film und Bild
DESCRIPTION:Von der Reise bis zum Riesenrad ist das Smartphone stets dabei. Wir können im Gespräch über die Möglichkeiten des Smartphones sprechen und das Neue dabei entdecken. So kann das Erlebnis schnell ins Bild gesetzt werden. Das Smartphone ist leicht\, flexibel und kann doch so viel. \nDabei ist die Gestaltung der Aufnahme des Motives oder der Filmschnitt für einen kleinen Reisebericht immer einen Gedankenaustausch wert. Wir klären die Frage\, wie gelingen Bild oder Film noch ein bisschen besser?
URL:https://dresden-gruna.de/event/treff-mit-smartphone-fuer-film-und-bild/
LOCATION:Bürger-Treff „Grunaer Aue“ Winterbergstr.31c\, 01277 Dresden\, Winterbergstraße 31c\, Dresden\, 01277\, Deutschland
END:VEVENT
END:VCALENDAR