BEGIN:VCALENDAR
VERSION:2.0
PRODID:-//In Gruna leben e.V. - ECPv6.8.3//NONSGML v1.0//EN
CALSCALE:GREGORIAN
METHOD:PUBLISH
X-ORIGINAL-URL:https://dresden-gruna.de
X-WR-CALDESC:Veranstaltungen für In Gruna leben e.V.
REFRESH-INTERVAL;VALUE=DURATION:PT1H
X-Robots-Tag:noindex
X-PUBLISHED-TTL:PT1H
BEGIN:VTIMEZONE
TZID:Europe/Berlin
BEGIN:DAYLIGHT
TZOFFSETFROM:+0100
TZOFFSETTO:+0200
TZNAME:CEST
DTSTART:20210328T010000
END:DAYLIGHT
BEGIN:STANDARD
TZOFFSETFROM:+0200
TZOFFSETTO:+0100
TZNAME:CET
DTSTART:20211031T010000
END:STANDARD
END:VTIMEZONE
BEGIN:VEVENT
DTSTART;TZID=Europe/Berlin:20210614T160000
DTEND;TZID=Europe/Berlin:20210614T160000
DTSTAMP:20260424T042947
CREATED:20210529T234859Z
LAST-MODIFIED:20210529T234859Z
UID:3360-1623686400-1623686400@dresden-gruna.de
SUMMARY:Spaziergang: Zwinglistraße und Schneebergstraße - Wegeverbindungen im Alltag
DESCRIPTION:Treff: stadtauswärtige Haltestelle Schneebergstraße der Linien 61\, 64 und 85\nRoute: Schneebergstraße – Cominiusstraße – Zwinglistraße\nThema: Entlang der Nord-Süd-Magistrale in Gruna blicken wir auf das Mit- und Gegeneinander der verschiedenen Verkehrsteilnehmer. Ein Schwerpunkt sind vorhandene Barrieren\, Stolperfallen\, Gefahrenbereiche aber auch gelungene Kreuzungssituationen über Straßen und Straßenbahngleise.\nGastgeber*innen: Jara Marder („In Gruna leben“ e.V.)\, Marion Herrmann („In Gruna leben“ e.V.)
URL:https://dresden-gruna.de/event/spaziergang-zwinglistrasse-und-schneebergstrasse-wegeverbindungen-im-alltag/
CATEGORIES:Projekte und Aktionen
ORGANIZER;CN="'In Gruna leben' e.V.":MAILTO:post@dresden-gruna.de
END:VEVENT
END:VCALENDAR