BEGIN:VCALENDAR
VERSION:2.0
PRODID:-//In Gruna leben e.V. - ECPv6.8.3//NONSGML v1.0//EN
CALSCALE:GREGORIAN
METHOD:PUBLISH
X-ORIGINAL-URL:https://dresden-gruna.de
X-WR-CALDESC:Veranstaltungen für In Gruna leben e.V.
REFRESH-INTERVAL;VALUE=DURATION:PT1H
X-Robots-Tag:noindex
X-PUBLISHED-TTL:PT1H
BEGIN:VTIMEZONE
TZID:Europe/Berlin
BEGIN:DAYLIGHT
TZOFFSETFROM:+0100
TZOFFSETTO:+0200
TZNAME:CEST
DTSTART:20210328T010000
END:DAYLIGHT
BEGIN:STANDARD
TZOFFSETFROM:+0200
TZOFFSETTO:+0100
TZNAME:CET
DTSTART:20211031T010000
END:STANDARD
END:VTIMEZONE
BEGIN:VEVENT
DTSTART;VALUE=DATE:20210413
DTEND;VALUE=DATE:20210614
DTSTAMP:20260424T060553
CREATED:20210412T235602Z
LAST-MODIFIED:20210529T234524Z
UID:3303-1618272000-1623628799@dresden-gruna.de
SUMMARY:Onlinebefragung zu Altgruna
DESCRIPTION:Das Stadtplanungsamt macht eine Online-Umfrage zu Altgruna:\nhttps://www.dresden.de/de/stadtraum/planen/stadtentwicklung/weitere-beteiligungsmoeglichkeiten/altgruna.php
URL:https://dresden-gruna.de/event/onlinebefragung-zu-altgruna/
CATEGORIES:Projekte und Aktionen
ORGANIZER;CN="'In Gruna leben' e.V.":MAILTO:post@dresden-gruna.de
END:VEVENT
BEGIN:VEVENT
DTSTART;TZID=Europe/Berlin:20210526T150000
DTEND;TZID=Europe/Berlin:20210526T150000
DTSTAMP:20260424T060553
CREATED:20210525T063229Z
LAST-MODIFIED:20210525T063335Z
UID:3349-1622041200-1622041200@dresden-gruna.de
SUMMARY:Rundgang: Gartenstadt Gruna
DESCRIPTION:Kleingärten als grüne Oase im Stadtteil bieten Erholungsqualität und ökologischen Nutzen. Ist ein Bürgergarten mit Schulgarten ebenfalls machbar (Idee aus dem Bewohnervotum 2017) \nRoute: „fidelio“ – Rothermundtpark – Landgraben – Kleingartenanlage „Alte Elbe – Frauensteiner Platz“ \nTreffpunkt: Seniorenbegegnungsstätte „fidelio“ \nVolkssolidarität Dresden e.V.\, SBS „fidelio“\, Jana Baumgart\, Helga Kluge
URL:https://dresden-gruna.de/event/rundgang-gartenstadt-gruna/
LOCATION:fidelio\, Papstdorfer Str. 25\, Dresden\, 01277\, Deutschland
CATEGORIES:Projekte und Aktionen
END:VEVENT
END:VCALENDAR