BEGIN:VCALENDAR
VERSION:2.0
PRODID:-//In Gruna leben e.V. - ECPv6.8.3//NONSGML v1.0//EN
CALSCALE:GREGORIAN
METHOD:PUBLISH
X-ORIGINAL-URL:https://dresden-gruna.de
X-WR-CALDESC:Veranstaltungen für In Gruna leben e.V.
REFRESH-INTERVAL;VALUE=DURATION:PT1H
X-Robots-Tag:noindex
X-PUBLISHED-TTL:PT1H
BEGIN:VTIMEZONE
TZID:Europe/Berlin
BEGIN:DAYLIGHT
TZOFFSETFROM:+0100
TZOFFSETTO:+0200
TZNAME:CEST
DTSTART:20200329T010000
END:DAYLIGHT
BEGIN:STANDARD
TZOFFSETFROM:+0200
TZOFFSETTO:+0100
TZNAME:CET
DTSTART:20201025T010000
END:STANDARD
END:VTIMEZONE
BEGIN:VEVENT
DTSTART;VALUE=DATE:20200911
DTEND;VALUE=DATE:20201106
DTSTAMP:20260424T175317
CREATED:20200122T001623Z
LAST-MODIFIED:20200905T230918Z
UID:1920-1599782400-1604620799@dresden-gruna.de
SUMMARY:Grunaer Nachbarschaftstage 2020
DESCRIPTION:Die Nachbarschaftstage 2020 warten wieder mit einem bunten Programm aus allen Bereichen des Lebens auf! \nIn Kooperation mit der Volkshochschule\, der Begegnungstätte fidelio und vielen anderen Partnern wollen wir euch ein breitgefächertes Spektrum an Veranstaltungen bieten\, bei dem Jede*r auf seine*ihre Kosten kommt! \nDieses Jahr liegt zudem ein besonderer Fokus auf dem 650. Geburtstag unseres Stadtteils.
URL:https://dresden-gruna.de/event/nachbarschaftstage/
CATEGORIES:Feste,Projekte und Aktionen
ORGANIZER;CN="'In Gruna leben' e.V.":MAILTO:post@dresden-gruna.de
END:VEVENT
BEGIN:VEVENT
DTSTART;TZID=Europe/Berlin:20201005T090000
DTEND;TZID=Europe/Berlin:20201005T100000
DTSTAMP:20260424T175317
CREATED:20200928T203111Z
LAST-MODIFIED:20200928T203111Z
UID:2954-1601888400-1601892000@dresden-gruna.de
SUMMARY:Baby- und Bauch-Treff zum Thema Tragehilfen
DESCRIPTION:
URL:https://dresden-gruna.de/event/baby-und-bauch-treff-zum-thema-tragehilfen/
LOCATION:Eltern-Kind-Büro\, Rosenbergstr. 10\, Dresden\, 01277\, Deutschland
CATEGORIES:Projekte und Aktionen
END:VEVENT
BEGIN:VEVENT
DTSTART;TZID=Europe/Berlin:20201005T150000
DTEND;TZID=Europe/Berlin:20201005T150000
DTSTAMP:20260424T175317
CREATED:20200904T201530Z
LAST-MODIFIED:20200904T201530Z
UID:2753-1601910000-1601910000@dresden-gruna.de
SUMMARY:Mobilitätstraining „ÖPNV/SPNV für Alle“
DESCRIPTION:Personen mit Beeinträchtigungen aller Art bekommen Hilfe zur Selbsthilfe im Umgang mit täglichen Wegen und der Nutzung des ÖPNV \nInhalte des Vortrages: \n    „ÖPNV/SPNV für Alle“ – Wer ist das eigentlich?\n    Rollator – mein Hilfsmittel\n    Fahrplanauskunft und Fahrkartenkauf im Internet\n    Mit dem Rollator Bus und Bahn fahren\n    Welche Hilfsmittel können noch mit Bus und Bahn befördert werden?\n    Unterstützung von Menschen mit Sehbeeinträchtigungen\n    Was kann ich selbst tun? \nDabei üben wir \n    Techniken zum Überwinden von Hindernissen wie Bordsteinkanten und das Ein- und Aussteigen\,\n    kraftsparendes Aufstehen und sicheres Setzen sowie\n    verschiedene Bremsarten und machen eine Sichtprüfung zum technischen Zustand des Rollators.
URL:https://dresden-gruna.de/event/mobilitaetstraining-oepnv-spnv-fuer-alle/
LOCATION:Findlingsbrunnen\, 2QMP+M5 Dresden\, Dresden\, 01277\, Deutschland
CATEGORIES:Projekte und Aktionen
ATTACH;FMTTYPE=image/jpeg:https://dresden-gruna.de/wp-content/uploads/2020/09/Mobi-Training-Ausschnitt-002.jpg
ORGANIZER;CN="'In Gruna leben' e.V.":MAILTO:post@dresden-gruna.de
END:VEVENT
END:VCALENDAR