BEGIN:VCALENDAR
VERSION:2.0
PRODID:-//In Gruna leben e.V. - ECPv6.8.3//NONSGML v1.0//EN
CALSCALE:GREGORIAN
METHOD:PUBLISH
X-ORIGINAL-URL:https://dresden-gruna.de
X-WR-CALDESC:Veranstaltungen für In Gruna leben e.V.
REFRESH-INTERVAL;VALUE=DURATION:PT1H
X-Robots-Tag:noindex
X-PUBLISHED-TTL:PT1H
BEGIN:VTIMEZONE
TZID:Europe/Berlin
BEGIN:DAYLIGHT
TZOFFSETFROM:+0100
TZOFFSETTO:+0200
TZNAME:CEST
DTSTART:20200329T010000
END:DAYLIGHT
BEGIN:STANDARD
TZOFFSETFROM:+0200
TZOFFSETTO:+0100
TZNAME:CET
DTSTART:20201025T010000
END:STANDARD
END:VTIMEZONE
BEGIN:VEVENT
DTSTART;VALUE=DATE:20200911
DTEND;VALUE=DATE:20201106
DTSTAMP:20260424T175453
CREATED:20200122T001623Z
LAST-MODIFIED:20200905T230918Z
UID:1920-1599782400-1604620799@dresden-gruna.de
SUMMARY:Grunaer Nachbarschaftstage 2020
DESCRIPTION:Die Nachbarschaftstage 2020 warten wieder mit einem bunten Programm aus allen Bereichen des Lebens auf! \nIn Kooperation mit der Volkshochschule\, der Begegnungstätte fidelio und vielen anderen Partnern wollen wir euch ein breitgefächertes Spektrum an Veranstaltungen bieten\, bei dem Jede*r auf seine*ihre Kosten kommt! \nDieses Jahr liegt zudem ein besonderer Fokus auf dem 650. Geburtstag unseres Stadtteils.
URL:https://dresden-gruna.de/event/nachbarschaftstage/
CATEGORIES:Feste,Projekte und Aktionen
ORGANIZER;CN="'In Gruna leben' e.V.":MAILTO:post@dresden-gruna.de
END:VEVENT
BEGIN:VEVENT
DTSTART;TZID=Europe/Berlin:20200928T133000
DTEND;TZID=Europe/Berlin:20200928T150000
DTSTAMP:20260424T175453
CREATED:20200915T224923Z
LAST-MODIFIED:20200921T000605Z
UID:2842-1601299800-1601305200@dresden-gruna.de
SUMMARY:Spielenachmittag
DESCRIPTION:Zusammen spielen: Spielenachmittag für Groß und Klein \nUKB 1\,50 Euro
URL:https://dresden-gruna.de/event/2842/
LOCATION:fidelio\, Papstdorfer Str. 25\, Dresden\, 01277\, Deutschland
CATEGORIES:Projekte und Aktionen
END:VEVENT
BEGIN:VEVENT
DTSTART;TZID=Europe/Berlin:20200928T150000
DTEND;TZID=Europe/Berlin:20200928T150000
DTSTAMP:20260424T175453
CREATED:20200915T225158Z
LAST-MODIFIED:20200915T225158Z
UID:2844-1601305200-1601305200@dresden-gruna.de
SUMMARY:Selbstbestimmt leben
DESCRIPTION:Selbstbestimmt leben im vertrauten Milieu durch wohnbegleitende Hilfen und Helfer – Partner\, Probleme und Perspektiven in Gruna
URL:https://dresden-gruna.de/event/selbstbestimmt-leben/
LOCATION:Bürger-Treff „Grunaer Aue“ Winterbergstr.31c\, 01277 Dresden\, Winterbergstraße 31c\, Dresden\, 01277\, Deutschland
CATEGORIES:Projekte und Aktionen
ORGANIZER;CN="Sigus e.V.":MAILTO:sigus-dd@t-online.de
END:VEVENT
END:VCALENDAR