BEGIN:VCALENDAR
VERSION:2.0
PRODID:-//In Gruna leben e.V. - ECPv6.8.3//NONSGML v1.0//EN
CALSCALE:GREGORIAN
METHOD:PUBLISH
X-ORIGINAL-URL:https://dresden-gruna.de
X-WR-CALDESC:Veranstaltungen für In Gruna leben e.V.
REFRESH-INTERVAL;VALUE=DURATION:PT1H
X-Robots-Tag:noindex
X-PUBLISHED-TTL:PT1H
BEGIN:VTIMEZONE
TZID:Europe/Berlin
BEGIN:DAYLIGHT
TZOFFSETFROM:+0100
TZOFFSETTO:+0200
TZNAME:CEST
DTSTART:20200329T010000
END:DAYLIGHT
BEGIN:STANDARD
TZOFFSETFROM:+0200
TZOFFSETTO:+0100
TZNAME:CET
DTSTART:20201025T010000
END:STANDARD
END:VTIMEZONE
BEGIN:VEVENT
DTSTART;VALUE=DATE:20200911
DTEND;VALUE=DATE:20201106
DTSTAMP:20260424T193744
CREATED:20200122T001623Z
LAST-MODIFIED:20200905T230918Z
UID:1920-1599782400-1604620799@dresden-gruna.de
SUMMARY:Grunaer Nachbarschaftstage 2020
DESCRIPTION:Die Nachbarschaftstage 2020 warten wieder mit einem bunten Programm aus allen Bereichen des Lebens auf! \nIn Kooperation mit der Volkshochschule\, der Begegnungstätte fidelio und vielen anderen Partnern wollen wir euch ein breitgefächertes Spektrum an Veranstaltungen bieten\, bei dem Jede*r auf seine*ihre Kosten kommt! \nDieses Jahr liegt zudem ein besonderer Fokus auf dem 650. Geburtstag unseres Stadtteils.
URL:https://dresden-gruna.de/event/nachbarschaftstage/
CATEGORIES:Feste,Projekte und Aktionen
ORGANIZER;CN="'In Gruna leben' e.V.":MAILTO:post@dresden-gruna.de
END:VEVENT
BEGIN:VEVENT
DTSTART;TZID=Europe/Berlin:20200924T150000
DTEND;TZID=Europe/Berlin:20200924T150000
DTSTAMP:20260424T193744
CREATED:20200915T224706Z
LAST-MODIFIED:20200915T224718Z
UID:2839-1600959600-1600959600@dresden-gruna.de
SUMMARY:Vortrag: Geschichte und Geschichten Grunas
DESCRIPTION:650 Jahre Gruna: Geschichte und Geschichten vom Werden und Wachsen dieses Dresdner Ortsteiles \nIm Rahmen dieses Vortrags wird die wechselvolle Geschichte des Stadtteils vorgestellt.
URL:https://dresden-gruna.de/event/vortrag-geschichte-und-geschichten-grunas/
LOCATION:Thomaskirche\, Bodenbacher Str. 21\, Dresden\, 01277\, Deutschland
CATEGORIES:Projekte und Aktionen
ORGANIZER;CN="'In Gruna leben' e.V.":MAILTO:post@dresden-gruna.de
END:VEVENT
BEGIN:VEVENT
DTSTART;TZID=Europe/Berlin:20200924T170000
DTEND;TZID=Europe/Berlin:20200924T200000
DTSTAMP:20260424T193744
CREATED:20200311T150036Z
LAST-MODIFIED:20200530T215046Z
UID:2306-1600966800-1600977600@dresden-gruna.de
SUMMARY:RepairCafé Gruna am 24.09.2020
DESCRIPTION:Reparier defekte Gebrauchsgegenstände unter fachkundiger Anleitung im RepairCafé Gruna. Oder hilf deinen Nachbarn dabei.  \nWann:  jeden vierten Donnerstag im Monat von 17-20 Uhr. \nWo: Streetwork-Büro „Sofa9“\, Rosenbergstraße 12\, 01277 Dresden. \nDu möchtest Ressourcen schonen und dich bei einem Stück Kuchen mit deinen Nachbarn austauschen? Dann bist Du herzlich ins RepairCafé Gruna eingeladen. Du kannst alle beweglichen Gegenstände mitbringen\, die sich transportieren lassen. Ausgeschlossen sind Fahrräder und sperrige Haushaltsgroßgeräte wie Waschmaschinen und Kühlschränke. \nBei Fragen\, Interesse oder Anregungen sende uns bitte eine Nachricht über das Kontaktformular oder direkt an ste@dresden-gruna.de. \nReparaturtalente und Kuchenspenden willkommen\nDas RepairCafé Gruna ist eine ehrenamtliche Initiative. Ziel ist es\, durch Reparaturen Ressourcen zu schonen und den Zusammenhalt in der Nachbarschaft zu stärken. Daher freuen wir uns insbesondere über tatkäftige Unterstützung aus Gruna. Wenn Du dein Reparaturtalent mit einbringen willst\, komm gern direkt bei einer der nächsten Veranstaltungen vorbei. Kuchenspenden aus der Nachbarschaft sind jederzeit willkommen. \nKooperationsprojekt\nDas RepairCafé Gruna ist eine Kooperation der Interessengemeinschaft „in Gruna leben“ c/o Sigus e.V.  mit dem Netzwerk RepairCafé Dresden-Freital und dem Streetwork-Büro Sofa9. Weiter Informationen zum Thema RepairCafé finden Sie hier. \nHier geht es zur Berichterstattung über das RepairCafé.
URL:https://dresden-gruna.de/event/repaircafe-gruna-am-24-09-2020/
LOCATION:Sofa9\, Rosenberstraße 12\, Dresden\, 01277
CATEGORIES:Projekte und Aktionen,RepairCafé
ATTACH;FMTTYPE=image/png:https://dresden-gruna.de/wp-content/uploads/2018/03/repaircafe-gruna.png
ORGANIZER;CN="'In Gruna leben' e.V.":MAILTO:post@dresden-gruna.de
END:VEVENT
END:VCALENDAR