BEGIN:VCALENDAR
VERSION:2.0
PRODID:-//In Gruna leben e.V. - ECPv6.8.3//NONSGML v1.0//EN
CALSCALE:GREGORIAN
METHOD:PUBLISH
X-ORIGINAL-URL:https://dresden-gruna.de
X-WR-CALDESC:Veranstaltungen für In Gruna leben e.V.
REFRESH-INTERVAL;VALUE=DURATION:PT1H
X-Robots-Tag:noindex
X-PUBLISHED-TTL:PT1H
BEGIN:VTIMEZONE
TZID:Europe/Berlin
BEGIN:DAYLIGHT
TZOFFSETFROM:+0100
TZOFFSETTO:+0200
TZNAME:CEST
DTSTART:20200329T010000
END:DAYLIGHT
BEGIN:STANDARD
TZOFFSETFROM:+0200
TZOFFSETTO:+0100
TZNAME:CET
DTSTART:20201025T010000
END:STANDARD
END:VTIMEZONE
BEGIN:VEVENT
DTSTART;VALUE=DATE:20200911
DTEND;VALUE=DATE:20201106
DTSTAMP:20260424T193744
CREATED:20200122T001623Z
LAST-MODIFIED:20200905T230918Z
UID:1920-1599782400-1604620799@dresden-gruna.de
SUMMARY:Grunaer Nachbarschaftstage 2020
DESCRIPTION:Die Nachbarschaftstage 2020 warten wieder mit einem bunten Programm aus allen Bereichen des Lebens auf! \nIn Kooperation mit der Volkshochschule\, der Begegnungstätte fidelio und vielen anderen Partnern wollen wir euch ein breitgefächertes Spektrum an Veranstaltungen bieten\, bei dem Jede*r auf seine*ihre Kosten kommt! \nDieses Jahr liegt zudem ein besonderer Fokus auf dem 650. Geburtstag unseres Stadtteils.
URL:https://dresden-gruna.de/event/nachbarschaftstage/
CATEGORIES:Feste,Projekte und Aktionen
ORGANIZER;CN="'In Gruna leben' e.V.":MAILTO:post@dresden-gruna.de
END:VEVENT
BEGIN:VEVENT
DTSTART;TZID=Europe/Berlin:20200918T100000
DTEND;TZID=Europe/Berlin:20200918T111500
DTSTAMP:20260424T193744
CREATED:20200906T214736Z
LAST-MODIFIED:20200906T214820Z
UID:2780-1600423200-1600427700@dresden-gruna.de
SUMMARY:Schwangerenyoga* mit Anja
DESCRIPTION:– Zeit und Entspannung für dich und dein Baby. (*ab 2. Trimester)\nKosten: 5€ Schnupperpreis\nAnmeldung (Plätze sind begrenzt!): anja@lotosyoga.org o. Whatsapp 0176/32432012\nBitte eigene Matte\, ggf. Decke u. Getränk mitbringen www.lotosyoga.org – Anja Franke
URL:https://dresden-gruna.de/event/schwangerenyoga-mit-anja/
LOCATION:Eltern-Kind-Büro\, Rosenbergstr. 10\, Dresden\, 01277\, Deutschland
CATEGORIES:Projekte und Aktionen
END:VEVENT
BEGIN:VEVENT
DTSTART;TZID=Europe/Berlin:20200918T160000
DTEND;TZID=Europe/Berlin:20200918T180000
DTSTAMP:20260424T193744
CREATED:20200906T215157Z
LAST-MODIFIED:20200915T223128Z
UID:2782-1600444800-1600452000@dresden-gruna.de
SUMMARY:Eröffnung der Nachbarschaftstage
DESCRIPTION:1. Posaunenchor (16 Uhr)\n2. Begrüßung: Pfarrer Führer (16.20 Uhr)\n3. Rede OB Dirk Hilbert (16.30 Uhr\n4. Übergabe Festschrift (Ab 16.40 Uhr) – Programmvorstellung\n5. Kaffee\, Kuchen &; Gespräche (ab 17 Uhr) – Stehtische und nette Atmosphäre – parallel Kinderspiele mit dem Eltern-Kind-Büro\n6. Ausklang mit Gabriel Jagieniak am Akkordeon\n„Moderation“: C. Barth\, Leiter Stadtbezirksamt Blasewitz
URL:https://dresden-gruna.de/event/eroeffnung-der-nachbarschaftstage/
LOCATION:Findlingsbrunnen\, 2QMP+M5 Dresden\, Dresden\, 01277\, Deutschland
CATEGORIES:Feste,Projekte und Aktionen
ORGANIZER;CN="'In Gruna leben' e.V.":MAILTO:post@dresden-gruna.de
END:VEVENT
END:VCALENDAR